Workbook

Sheet Shiftplanning
A1: SHIFT PLANNING
A3: DATUM | C3: =Invoer!B4 -> 46299
A4: SUPERVISORS | C4: =Invoer!B5 -> Anna 07:00-15:00 | Tom 15:00-sluit
B6: Werktijd | C6: =Invoer!F9 -> 07:00-09:00 | D6: =Invoer!F10 -> 09:00-11:00 | E6: =Invoer!F11 -> 11:00-13:00 | F6: =Invoer!F12 -> 13:00-15:00 | G6: =Invoer!F13 -> 15:00-17:00 | H6: Opmerkingen | J6: Pauze
A7: =IFERROR(INDEX(Rekenblad!$A$5:$A$16,MATCH(1,Rekenblad!$Z$5:$Z$16,0)),"") -> Lotte | B7: =IFERROR(INDEX(Rekenblad!$AN$5:$AN$16,MATCH(1,Rekenblad!$Z$5:$Z$16,0)),"") -> 08:00 - 16:00 | C7: =IFERROR(INDEX(Rekenblad!$AD$5:$AD$16,MATCH(1,Rekenblad!$Z$5:$Z$16,0)),"") -> X | D7: =IFERROR(INDEX(Rekenblad!$AE$5:$AE$16,MATCH(1,Rekenblad!$Z$5:$Z$16,0)),"") -> Berg | E7: =IFERROR(INDEX(Rekenblad!$AF$5:$AF$16,MATCH(1,Rekenblad!$Z$5:$Z$16,0)),"") -> Verhuur | F7: =IFERROR(INDEX(Rekenblad!$AG$5:$AG$16,MATCH(1,Rekenblad!$Z$5:$Z$16,0)),"") -> Berg | G7: =IFERROR(INDEX(Rekenblad!$AH$5:$AH$16,MATCH(1,Rekenblad!$Z$5:$Z$16,0)),"") -> Dal (16) | H7: =IFERROR(INDEX(Rekenblad!$AP$5:$AP$16,MATCH(1,Rekenblad!$Z$5:$Z$16,0)),"") | J7: =IFERROR(INDEX(Rekenblad!$AO$5:$AO$16,MATCH(1,Rekenblad!$Z$5:$Z$16,0)),"") -> 30 min
A8: =IFERROR(INDEX(Rekenblad!$A$5:$A$16,MATCH(2,Rekenblad!$Z$5:$Z$16,0)),"") -> Daan | B8: =IFERROR(INDEX(Rekenblad!$AN$5:$AN$16,MATCH(2,Rekenblad!$Z$5:$Z$16,0)),"") -> 08:45 - 17:00 | C8: =IFERROR(INDEX(Rekenblad!$AD$5:$AD$16,MATCH(2,Rekenblad!$Z$5:$Z$16,0)),"") -> X | D8: =IFERROR(INDEX(Rekenblad!$AE$5:$AE$16,MATCH(2,Rekenblad!$Z$5:$Z$16,0)),"") -> Bandliften | E8: =IFERROR(INDEX(Rekenblad!$AF$5:$AF$16,MATCH(2,Rekenblad!$Z$5:$Z$16,0)),"") -> Verhuur | F8: =IFERROR(INDEX(Rekenblad!$AG$5:$AG$16,MATCH(2,Rekenblad!$Z$5:$Z$16,0)),"") -> Bandliften | G8: =IFERROR(INDEX(Rekenblad!$AH$5:$AH$16,MATCH(2,Rekenblad!$Z$5:$Z$16,0)),"") -> Bandliften | H8: =IFERROR(INDEX(Rekenblad!$AP$5:$AP$16,MATCH(2,Rekenblad!$Z$5:$Z$16,0)),"") | J8: =IFERROR(INDEX(Rekenblad!$AO$5:$AO$16,MATCH(2,Rekenblad!$Z$5:$Z$16,0)),"") -> 30 min
A9: =IFERROR(INDEX(Rekenblad!$A$5:$A$16,MATCH(3,Rekenblad!$Z$5:$Z$16,0)),"") -> Sanne | B9: =IFERROR(INDEX(Rekenblad!$AN$5:$AN$16,MATCH(3,Rekenblad!$Z$5:$Z$16,0)),"") -> 08:45 - 17:00 | C9: =IFERROR(INDEX(Rekenblad!$AD$5:$AD$16,MATCH(3,Rekenblad!$Z$5:$Z$16,0)),"") -> X | D9: =IFERROR(INDEX(Rekenblad!$AE$5:$AE$16,MATCH(3,Rekenblad!$Z$5:$Z$16,0)),"") -> Verhuur | E9: =IFERROR(INDEX(Rekenblad!$AF$5:$AF$16,MATCH(3,Rekenblad!$Z$5:$Z$16,0)),"") -> Dal | F9: =IFERROR(INDEX(Rekenblad!$AG$5:$AG$16,MATCH(3,Rekenblad!$Z$5:$Z$16,0)),"") -> Verhuur | G9: =IFERROR(INDEX(Rekenblad!$AH$5:$AH$16,MATCH(3,Rekenblad!$Z$5:$Z$16,0)),"") -> Verhuur | H9: =IFERROR(INDEX(Rekenblad!$AP$5:$AP$16,MATCH(3,Rekenblad!$Z$5:$Z$16,0)),"") | J9: =IFERROR(INDEX(Rekenblad!$AO$5:$AO$16,MATCH(3,Rekenblad!$Z$5:$Z$16,0)),"") -> 30 min
A10: =IFERROR(INDEX(Rekenblad!$A$5:$A$16,MATCH(4,Rekenblad!$Z$5:$Z$16,0)),"") -> Yara | B10: =IFERROR(INDEX(Rekenblad!$AN$5:$AN$16,MATCH(4,Rekenblad!$Z$5:$Z$16,0)),"") -> 09:00 - 13:00 | C10: =IFERROR(INDEX(Rekenblad!$AD$5:$AD$16,MATCH(4,Rekenblad!$Z$5:$Z$16,0)),"") -> X | D10: =IFERROR(INDEX(Rekenblad!$AE$5:$AE$16,MATCH(4,Rekenblad!$Z$5:$Z$16,0)),"") -> Dal | E10: =IFERROR(INDEX(Rekenblad!$AF$5:$AF$16,MATCH(4,Rekenblad!$Z$5:$Z$16,0)),"") -> Berg | F10: =IFERROR(INDEX(Rekenblad!$AG$5:$AG$16,MATCH(4,Rekenblad!$Z$5:$Z$16,0)),"") -> X | G10: =IFERROR(INDEX(Rekenblad!$AH$5:$AH$16,MATCH(4,Rekenblad!$Z$5:$Z$16,0)),"") -> X | H10: =IFERROR(INDEX(Rekenblad!$AP$5:$AP$16,MATCH(4,Rekenblad!$Z$5:$Z$16,0)),"") -> Alleen ochtend | J10: =IFERROR(INDEX(Rekenblad!$AO$5:$AO$16,MATCH(4,Rekenblad!$Z$5:$Z$16,0)),"")
A11: =IFERROR(INDEX(Rekenblad!$A$5:$A$16,MATCH(5,Rekenblad!$Z$5:$Z$16,0)),"") | B11: =IFERROR(INDEX(Rekenblad!$AN$5:$AN$16,MATCH(5,Rekenblad!$Z$5:$Z$16,0)),"") | C11: =IFERROR(INDEX(Rekenblad!$AD$5:$AD$16,MATCH(5,Rekenblad!$Z$5:$Z$16,0)),"") | D11: =IFERROR(INDEX(Rekenblad!$AE$5:$AE$16,MATCH(5,Rekenblad!$Z$5:$Z$16,0)),"") | E11: =IFERROR(INDEX(Rekenblad!$AF$5:$AF$16,MATCH(5,Rekenblad!$Z$5:$Z$16,0)),"") | F11: =IFERROR(INDEX(Rekenblad!$AG$5:$AG$16,MATCH(5,Rekenblad!$Z$5:$Z$16,0)),"") | G11: =IFERROR(INDEX(Rekenblad!$AH$5:$AH$16,MATCH(5,Rekenblad!$Z$5:$Z$16,0)),"") | H11: =IFERROR(INDEX(Rekenblad!$AP$5:$AP$16,MATCH(5,Rekenblad!$Z$5:$Z$16,0)),"") | J11: =IFERROR(INDEX(Rekenblad!$AO$5:$AO$16,MATCH(5,Rekenblad!$Z$5:$Z$16,0)),"")
D12: =Invoer!F10 -> 09:00-11:00 | E12: =Invoer!F11 -> 11:00-13:00 | F12: =Invoer!F12 -> 13:00-15:00 | G12: =Invoer!F13 -> 15:00-17:00 | H12: =Invoer!F14 -> 17:00-18:00 | I12: =Invoer!F15 -> 18:00-20:00
A13: =IFERROR(INDEX(Rekenblad!$A$5:$A$16,MATCH(1,Rekenblad!$AA$5:$AA$16,0)),"") -> Milan | B13: =IFERROR(INDEX(Rekenblad!$AN$5:$AN$16,MATCH(1,Rekenblad!$AA$5:$AA$16,0)),"") -> 11:00 - 19:00 | C13: =IF(A13="","","X") -> X | D13: =IFERROR(INDEX(Rekenblad!$AE$5:$AE$16,MATCH(1,Rekenblad!$AA$5:$AA$16,0)),"") -> X | E13: =IFERROR(INDEX(Rekenblad!$AF$5:$AF$16,MATCH(1,Rekenblad!$AA$5:$AA$16,0)),"") -> Bandliften | F13: =IFERROR(INDEX(Rekenblad!$AG$5:$AG$16,MATCH(1,Rekenblad!$AA$5:$AA$16,0)),"") -> Dal | G13: =IFERROR(INDEX(Rekenblad!$AH$5:$AH$16,MATCH(1,Rekenblad!$AA$5:$AA$16,0)),"") -> Verhuur | H13: =IFERROR(INDEX(Rekenblad!$AI$5:$AI$16,MATCH(1,Rekenblad!$AA$5:$AA$16,0)),"") -> Berg | I13: =IFERROR(INDEX(Rekenblad!$AJ$5:$AJ$16,MATCH(1,Rekenblad!$AA$5:$AA$16,0)),"") -> Verhuur (19) | J13: =IFERROR(INDEX(Rekenblad!$AO$5:$AO$16,MATCH(1,Rekenblad!$AA$5:$AA$16,0)),"") -> 30 min
A14: =IFERROR(INDEX(Rekenblad!$A$5:$A$16,MATCH(2,Rekenblad!$AA$5:$AA$16,0)),"") | B14: =IFERROR(INDEX(Rekenblad!$AN$5:$AN$16,MATCH(2,Rekenblad!$AA$5:$AA$16,0)),"") | C14: =IF(A14="","","X") | D14: =IFERROR(INDEX(Rekenblad!$AE$5:$AE$16,MATCH(2,Rekenblad!$AA$5:$AA$16,0)),"") | E14: =IFERROR(INDEX(Rekenblad!$AF$5:$AF$16,MATCH(2,Rekenblad!$AA$5:$AA$16,0)),"") | F14: =IFERROR(INDEX(Rekenblad!$AG$5:$AG$16,MATCH(2,Rekenblad!$AA$5:$AA$16,0)),"") | G14: =IFERROR(INDEX(Rekenblad!$AH$5:$AH$16,MATCH(2,Rekenblad!$AA$5:$AA$16,0)),"") | H14: =IFERROR(INDEX(Rekenblad!$AI$5:$AI$16,MATCH(2,Rekenblad!$AA$5:$AA$16,0)),"") | I14: =IFERROR(INDEX(Rekenblad!$AJ$5:$AJ$16,MATCH(2,Rekenblad!$AA$5:$AA$16,0)),"") | J14: =IFERROR(INDEX(Rekenblad!$AO$5:$AO$16,MATCH(2,Rekenblad!$AA$5:$AA$16,0)),"")
A15: =IFERROR(INDEX(Rekenblad!$A$5:$A$16,MATCH(3,Rekenblad!$AA$5:$AA$16,0)),"") | B15: =IFERROR(INDEX(Rekenblad!$AN$5:$AN$16,MATCH(3,Rekenblad!$AA$5:$AA$16,0)),"") | C15: =IF(A15="","","X") | D15: =IFERROR(INDEX(Rekenblad!$AE$5:$AE$16,MATCH(3,Rekenblad!$AA$5:$AA$16,0)),"") | E15: =IFERROR(INDEX(Rekenblad!$AF$5:$AF$16,MATCH(3,Rekenblad!$AA$5:$AA$16,0)),"") | F15: =IFERROR(INDEX(Rekenblad!$AG$5:$AG$16,MATCH(3,Rekenblad!$AA$5:$AA$16,0)),"") | G15: =IFERROR(INDEX(Rekenblad!$AH$5:$AH$16,MATCH(3,Rekenblad!$AA$5:$AA$16,0)),"") | H15: =IFERROR(INDEX(Rekenblad!$AI$5:$AI$16,MATCH(3,Rekenblad!$AA$5:$AA$16,0)),"") | I15: =IFERROR(INDEX(Rekenblad!$AJ$5:$AJ$16,MATCH(3,Rekenblad!$AA$5:$AA$16,0)),"") | J15: =IFERROR(INDEX(Rekenblad!$AO$5:$AO$16,MATCH(3,Rekenblad!$AA$5:$AA$16,0)),"")
D16: =Invoer!F13 -> 15:00-17:00 | E16: =Invoer!F14 -> 17:00-18:00 | F16: =Invoer!F15 -> 18:00-20:00 | G16: =Invoer!F16 -> 20:00-22:00 | H16: =Invoer!F17 -> 22:00-sluit
A17: =IFERROR(INDEX(Rekenblad!$A$5:$A$16,MATCH(1,Rekenblad!$AB$5:$AB$16,0)),"") -> Noor | B17: =IFERROR(INDEX(Rekenblad!$AN$5:$AN$16,MATCH(1,Rekenblad!$AB$5:$AB$16,0)),"") -> 15:00 - sluit | C17: =IF(A17="","","X") -> X | D17: =IFERROR(INDEX(Rekenblad!$AH$5:$AH$16,MATCH(1,Rekenblad!$AB$5:$AB$16,0)),"") -> Dal | E17: =IFERROR(INDEX(Rekenblad!$AI$5:$AI$16,MATCH(1,Rekenblad!$AB$5:$AB$16,0)),"") -> Bandliften | F17: =IFERROR(INDEX(Rekenblad!$AJ$5:$AJ$16,MATCH(1,Rekenblad!$AB$5:$AB$16,0)),"") -> Verhuur | G17: =IFERROR(INDEX(Rekenblad!$AK$5:$AK$16,MATCH(1,Rekenblad!$AB$5:$AB$16,0)),"") -> Berg | H17: =IFERROR(INDEX(Rekenblad!$AL$5:$AL$16,MATCH(1,Rekenblad!$AB$5:$AB$16,0)),"") -> Sluit | J17: =IFERROR(INDEX(Rekenblad!$AO$5:$AO$16,MATCH(1,Rekenblad!$AB$5:$AB$16,0)),"") -> 30 min
A18: =IFERROR(INDEX(Rekenblad!$A$5:$A$16,MATCH(2,Rekenblad!$AB$5:$AB$16,0)),"") -> Bram | B18: =IFERROR(INDEX(Rekenblad!$AN$5:$AN$16,MATCH(2,Rekenblad!$AB$5:$AB$16,0)),"") -> 15:00 - sluit | C18: =IF(A18="","","X") -> X | D18: =IFERROR(INDEX(Rekenblad!$AH$5:$AH$16,MATCH(2,Rekenblad!$AB$5:$AB$16,0)),"") -> Berg | E18: =IFERROR(INDEX(Rekenblad!$AI$5:$AI$16,MATCH(2,Rekenblad!$AB$5:$AB$16,0)),"") -> Verhuur | F18: =IFERROR(INDEX(Rekenblad!$AJ$5:$AJ$16,MATCH(2,Rekenblad!$AB$5:$AB$16,0)),"") -> Dal | G18: =IFERROR(INDEX(Rekenblad!$AK$5:$AK$16,MATCH(2,Rekenblad!$AB$5:$AB$16,0)),"") -> Bandliften | H18: =IFERROR(INDEX(Rekenblad!$AL$5:$AL$16,MATCH(2,Rekenblad!$AB$5:$AB$16,0)),"") -> Sluit | J18: =IFERROR(INDEX(Rekenblad!$AO$5:$AO$16,MATCH(2,Rekenblad!$AB$5:$AB$16,0)),"") -> 30 min
A19: =IFERROR(INDEX(Rekenblad!$A$5:$A$16,MATCH(3,Rekenblad!$AB$5:$AB$16,0)),"") -> Eva | B19: =IFERROR(INDEX(Rekenblad!$AN$5:$AN$16,MATCH(3,Rekenblad!$AB$5:$AB$16,0)),"") -> 17:00 - sluit | C19: =IF(A19="","","X") -> X | D19: =IFERROR(INDEX(Rekenblad!$AH$5:$AH$16,MATCH(3,Rekenblad!$AB$5:$AB$16,0)),"") -> X | E19: =IFERROR(INDEX(Rekenblad!$AI$5:$AI$16,MATCH(3,Rekenblad!$AB$5:$AB$16,0)),"") -> Dal | F19: =IFERROR(INDEX(Rekenblad!$AJ$5:$AJ$16,MATCH(3,Rekenblad!$AB$5:$AB$16,0)),"") -> Berg | G19: =IFERROR(INDEX(Rekenblad!$AK$5:$AK$16,MATCH(3,Rekenblad!$AB$5:$AB$16,0)),"") -> Verhuur | H19: =IFERROR(INDEX(Rekenblad!$AL$5:$AL$16,MATCH(3,Rekenblad!$AB$5:$AB$16,0)),"") -> Sluit | J19: =IFERROR(INDEX(Rekenblad!$AO$5:$AO$16,MATCH(3,Rekenblad!$AB$5:$AB$16,0)),"") -> 30 min
A20: =IFERROR(INDEX(Rekenblad!$A$5:$A$16,MATCH(4,Rekenblad!$AB$5:$AB$16,0)),"") -> Sem | B20: =IFERROR(INDEX(Rekenblad!$AN$5:$AN$16,MATCH(4,Rekenblad!$AB$5:$AB$16,0)),"") -> 18:00 - sluit | C20: =IF(A20="","","X") -> X | D20: =IFERROR(INDEX(Rekenblad!$AH$5:$AH$16,MATCH(4,Rekenblad!$AB$5:$AB$16,0)),"") -> X | E20: =IFERROR(INDEX(Rekenblad!$AI$5:$AI$16,MATCH(4,Rekenblad!$AB$5:$AB$16,0)),"") -> X | F20: =IFERROR(INDEX(Rekenblad!$AJ$5:$AJ$16,MATCH(4,Rekenblad!$AB$5:$AB$16,0)),"") -> Bandliften | G20: =IFERROR(INDEX(Rekenblad!$AK$5:$AK$16,MATCH(4,Rekenblad!$AB$5:$AB$16,0)),"") -> Dal | H20: =IFERROR(INDEX(Rekenblad!$AL$5:$AL$16,MATCH(4,Rekenblad!$AB$5:$AB$16,0)),"") -> Sluit | J20: =IFERROR(INDEX(Rekenblad!$AO$5:$AO$16,MATCH(4,Rekenblad!$AB$5:$AB$16,0)),"")
A21: =IFERROR(INDEX(Rekenblad!$A$5:$A$16,MATCH(5,Rekenblad!$AB$5:$AB$16,0)),"") | B21: =IFERROR(INDEX(Rekenblad!$AN$5:$AN$16,MATCH(5,Rekenblad!$AB$5:$AB$16,0)),"") | C21: =IF(A21="","","X") | D21: =IFERROR(INDEX(Rekenblad!$AH$5:$AH$16,MATCH(5,Rekenblad!$AB$5:$AB$16,0)),"") | E21: =IFERROR(INDEX(Rekenblad!$AI$5:$AI$16,MATCH(5,Rekenblad!$AB$5:$AB$16,0)),"") | F21: =IFERROR(INDEX(Rekenblad!$AJ$5:$AJ$16,MATCH(5,Rekenblad!$AB$5:$AB$16,0)),"") | G21: =IFERROR(INDEX(Rekenblad!$AK$5:$AK$16,MATCH(5,Rekenblad!$AB$5:$AB$16,0)),"") | H21: =IFERROR(INDEX(Rekenblad!$AL$5:$AL$16,MATCH(5,Rekenblad!$AB$5:$AB$16,0)),"") | J21: =IFERROR(INDEX(Rekenblad!$AO$5:$AO$16,MATCH(5,Rekenblad!$AB$5:$AB$16,0)),"")
A23: Automatisch ingedeeld vanuit het tabblad Invoer. Iedereen rouleert per tijdblok naar een andere post.

Sheet Invoer
A1: Invoer
A2: Blauwe cellen vul je zelf in. De shiftplanning en de controle rekenen automatisch mee.
A4: Datum | B4: 46299
A5: Supervisors | B5: Anna 07:00-15:00 | Tom 15:00-sluit
A6: Sluitingstijd | B6: 0.95833333
A8: Naam | B8: Begin | C8: Eind | D8: Opmerkingen | F8: Tijdblok | G8: Begin | H8: Eind | I8: Controleren | J8: Vaste post | K8: Volgorde posten
A9: Lotte | B9: 0.33333333 | C9: 0.66666667 | F9: 07:00-09:00 | G9: 0.29166667 | H9: 0.375 | I9: Nee | J9: X | K9: Verhuur
A10: Daan | B10: 0.36458333 | C10: 0.70833333 | F10: 09:00-11:00 | G10: 0.375 | H10: 0.45833333 | I10: Ja | K10: Dal
A11: Sanne | B11: 0.36458333 | C11: 0.70833333 | F11: 11:00-13:00 | G11: 0.45833333 | H11: 0.54166667 | I11: Ja | K11: Berg
A12: Yara | B12: 0.375 | C12: 0.54166667 | D12: Alleen ochtend | F12: 13:00-15:00 | G12: 0.54166667 | H12: 0.625 | I12: Ja | K12: Bandliften
A13: Milan | B13: 0.45833333 | C13: 0.79166667 | F13: 15:00-17:00 | G13: 0.625 | H13: 0.70833333 | I13: Ja | K13: Verhuur
A14: Noor | B14: 0.625 | C14: sluit | F14: 17:00-18:00 | G14: 0.70833333 | H14: 0.75 | I14: Ja | K14: Dal
A15: Bram | B15: 0.625 | C15: sluit | F15: 18:00-20:00 | G15: 0.75 | H15: 0.83333333 | I15: Ja | K15: Berg
A16: Eva | B16: 0.70833333 | C16: sluit | F16: 20:00-22:00 | G16: 0.83333333 | H16: 0.91666667 | I16: Ja | K16: Verhuur
A17: Sem | B17: 0.75 | C17: sluit | F17: 22:00-sluit | G17: 0.91666667 | H17: =$B$6 -> 0.95833333 | I17: Nee | J17: Sluit | K17: Bandliften
K18: Verhuur
F19: Vaste post: als die is ingevuld, krijgt iedereen die dan werkt deze taak (bijvoorbeeld Sluit, of X). | K19: Dal
K20: Berg
A21: Eind: een tijd, of "sluit" voor tot sluitingstijd. Lege rijen worden overgeslagen. | K21: Wie als eerste aanwezig is, krijgt de bovenste post.
A23: Minimaal nodig per post
A24: Post | B24: =F9 -> 07:00-09:00 | C24: =F10 -> 09:00-11:00 | D24: =F11 -> 11:00-13:00 | E24: =F12 -> 13:00-15:00 | F24: =F13 -> 15:00-17:00 | G24: =F14 -> 17:00-18:00 | H24: =F15 -> 18:00-20:00 | I24: =F16 -> 20:00-22:00 | J24: =F17 -> 22:00-sluit
A25: Verhuur | B25: 0 | C25: 1 | D25: 1 | E25: 1 | F25: 1 | G25: 1 | H25: 1 | I25: 1 | J25: 1
A26: Dal | B26: 0 | C26: 1 | D26: 1 | E26: 1 | F26: 1 | G26: 1 | H26: 1 | I26: 1 | J26: 1
A27: Berg | B27: 0 | C27: 1 | D27: 1 | E27: 1 | F27: 1 | G27: 1 | H27: 1 | I27: 1 | J27: 1
A28: Bandliften | B28: 0 | C28: 0 | D28: 0 | E28: 0 | F28: 1 | G28: 1 | H28: 1 | I28: 1 | J28: 1

Sheet Controle
A1: Controle
A2: Per tijdblok: hoeveel mensen er op elke post staan en of de minimale bezetting gehaald wordt.
A4: Kerncijfer | B4: Waarde
A5: Medewerkers vandaag | B5: =SUMPRODUCT((Invoer!A9:A20<>"")*1) -> 9
A6: Totaal uren | B6: =SUM(Rekenblad!D5:D16) -> 63.5
A7: Tijdblokken met tekort | B7: =COUNTIF(C22:K22,"Tekort") -> 0
A8: Drukste tijdblok | B8: =INDEX(C10:K10,MATCH(MAX(C11:K11),C11:K11,0)) -> 15:00-17:00
A9: Past niet op de lijst | B9: =COUNTIF(Rekenblad!Z5:Z16,">5")+COUNTIF(Rekenblad!AA5:AA16,">3")+COUNTIF(Rekenblad!AB5:AB16,">5") -> 0
B10: Post | C10: =Invoer!F9 -> 07:00-09:00 | D10: =Invoer!F10 -> 09:00-11:00 | E10: =Invoer!F11 -> 11:00-13:00 | F10: =Invoer!F12 -> 13:00-15:00 | G10: =Invoer!F13 -> 15:00-17:00 | H10: =Invoer!F14 -> 17:00-18:00 | I10: =Invoer!F15 -> 18:00-20:00 | J10: =Invoer!F16 -> 20:00-22:00 | K10: =Invoer!F17 -> 22:00-sluit
A11: Aanwezig | C11: =Rekenblad!E18 -> 3 | D11: =Rekenblad!F18 -> 4 | E11: =Rekenblad!G18 -> 5 | F11: =Rekenblad!H18 -> 4 | G11: =Rekenblad!I18 -> 6 | H11: =Rekenblad!J18 -> 4 | I11: =Rekenblad!K18 -> 5 | J11: =Rekenblad!L18 -> 4 | K11: =Rekenblad!M18 -> 4
A12: Ingedeeld | B12: Verhuur | C12: =COUNTIF(Rekenblad!AD$5:AD$16,$B12) -> 0 | D12: =COUNTIF(Rekenblad!AE$5:AE$16,$B12) -> 1 | E12: =COUNTIF(Rekenblad!AF$5:AF$16,$B12) -> 2 | F12: =COUNTIF(Rekenblad!AG$5:AG$16,$B12) -> 1 | G12: =COUNTIF(Rekenblad!AH$5:AH$16,$B12) -> 2 | H12: =COUNTIF(Rekenblad!AI$5:AI$16,$B12) -> 1 | I12: =COUNTIF(Rekenblad!AJ$5:AJ$16,$B12) -> 1 | J12: =COUNTIF(Rekenblad!AK$5:AK$16,$B12) -> 1 | K12: =COUNTIF(Rekenblad!AL$5:AL$16,$B12) -> 0
B13: Dal | C13: =COUNTIF(Rekenblad!AD$5:AD$16,$B13) -> 0 | D13: =COUNTIF(Rekenblad!AE$5:AE$16,$B13) -> 1 | E13: =COUNTIF(Rekenblad!AF$5:AF$16,$B13) -> 1 | F13: =COUNTIF(Rekenblad!AG$5:AG$16,$B13) -> 1 | G13: =COUNTIF(Rekenblad!AH$5:AH$16,$B13) -> 1 | H13: =COUNTIF(Rekenblad!AI$5:AI$16,$B13) -> 1 | I13: =COUNTIF(Rekenblad!AJ$5:AJ$16,$B13) -> 1 | J13: =COUNTIF(Rekenblad!AK$5:AK$16,$B13) -> 1 | K13: =COUNTIF(Rekenblad!AL$5:AL$16,$B13) -> 0
B14: Berg | C14: =COUNTIF(Rekenblad!AD$5:AD$16,$B14) -> 0 | D14: =COUNTIF(Rekenblad!AE$5:AE$16,$B14) -> 1 | E14: =COUNTIF(Rekenblad!AF$5:AF$16,$B14) -> 1 | F14: =COUNTIF(Rekenblad!AG$5:AG$16,$B14) -> 1 | G14: =COUNTIF(Rekenblad!AH$5:AH$16,$B14) -> 1 | H14: =COUNTIF(Rekenblad!AI$5:AI$16,$B14) -> 1 | I14: =COUNTIF(Rekenblad!AJ$5:AJ$16,$B14) -> 1 | J14: =COUNTIF(Rekenblad!AK$5:AK$16,$B14) -> 1 | K14: =COUNTIF(Rekenblad!AL$5:AL$16,$B14) -> 0
B15: Bandliften | C15: =COUNTIF(Rekenblad!AD$5:AD$16,$B15) -> 0 | D15: =COUNTIF(Rekenblad!AE$5:AE$16,$B15) -> 1 | E15: =COUNTIF(Rekenblad!AF$5:AF$16,$B15) -> 1 | F15: =COUNTIF(Rekenblad!AG$5:AG$16,$B15) -> 1 | G15: =COUNTIF(Rekenblad!AH$5:AH$16,$B15) -> 1 | H15: =COUNTIF(Rekenblad!AI$5:AI$16,$B15) -> 1 | I15: =COUNTIF(Rekenblad!AJ$5:AJ$16,$B15) -> 1 | J15: =COUNTIF(Rekenblad!AK$5:AK$16,$B15) -> 1 | K15: =COUNTIF(Rekenblad!AL$5:AL$16,$B15) -> 0
A17: Verschil met minimum | B17: Verhuur | C17: =IF(Invoer!$I$9="Nee","",C12-Invoer!B25) | D17: =IF(Invoer!$I$10="Nee","",D12-Invoer!C25) -> 0 | E17: =IF(Invoer!$I$11="Nee","",E12-Invoer!D25) -> 1 | F17: =IF(Invoer!$I$12="Nee","",F12-Invoer!E25) -> 0 | G17: =IF(Invoer!$I$13="Nee","",G12-Invoer!F25) -> 1 | H17: =IF(Invoer!$I$14="Nee","",H12-Invoer!G25) -> 0 | I17: =IF(Invoer!$I$15="Nee","",I12-Invoer!H25) -> 0 | J17: =IF(Invoer!$I$16="Nee","",J12-Invoer!I25) -> 0 | K17: =IF(Invoer!$I$17="Nee","",K12-Invoer!J25)
B18: Dal | C18: =IF(Invoer!$I$9="Nee","",C13-Invoer!B26) | D18: =IF(Invoer!$I$10="Nee","",D13-Invoer!C26) -> 0 | E18: =IF(Invoer!$I$11="Nee","",E13-Invoer!D26) -> 0 | F18: =IF(Invoer!$I$12="Nee","",F13-Invoer!E26) -> 0 | G18: =IF(Invoer!$I$13="Nee","",G13-Invoer!F26) -> 0 | H18: =IF(Invoer!$I$14="Nee","",H13-Invoer!G26) -> 0 | I18: =IF(Invoer!$I$15="Nee","",I13-Invoer!H26) -> 0 | J18: =IF(Invoer!$I$16="Nee","",J13-Invoer!I26) -> 0 | K18: =IF(Invoer!$I$17="Nee","",K13-Invoer!J26)
B19: Berg | C19: =IF(Invoer!$I$9="Nee","",C14-Invoer!B27) | D19: =IF(Invoer!$I$10="Nee","",D14-Invoer!C27) -> 0 | E19: =IF(Invoer!$I$11="Nee","",E14-Invoer!D27) -> 0 | F19: =IF(Invoer!$I$12="Nee","",F14-Invoer!E27) -> 0 | G19: =IF(Invoer!$I$13="Nee","",G14-Invoer!F27) -> 0 | H19: =IF(Invoer!$I$14="Nee","",H14-Invoer!G27) -> 0 | I19: =IF(Invoer!$I$15="Nee","",I14-Invoer!H27) -> 0 | J19: =IF(Invoer!$I$16="Nee","",J14-Invoer!I27) -> 0 | K19: =IF(Invoer!$I$17="Nee","",K14-Invoer!J27)
B20: Bandliften | C20: =IF(Invoer!$I$9="Nee","",C15-Invoer!B28) | D20: =IF(Invoer!$I$10="Nee","",D15-Invoer!C28) -> 1 | E20: =IF(Invoer!$I$11="Nee","",E15-Invoer!D28) -> 1 | F20: =IF(Invoer!$I$12="Nee","",F15-Invoer!E28) -> 1 | G20: =IF(Invoer!$I$13="Nee","",G15-Invoer!F28) -> 0 | H20: =IF(Invoer!$I$14="Nee","",H15-Invoer!G28) -> 0 | I20: =IF(Invoer!$I$15="Nee","",I15-Invoer!H28) -> 0 | J20: =IF(Invoer!$I$16="Nee","",J15-Invoer!I28) -> 0 | K20: =IF(Invoer!$I$17="Nee","",K15-Invoer!J28)
A22: Status | C22: =IF(Invoer!$I$9="Nee","Geen controle",IF(COUNTIF(C17:C20,"<0")>0,"Tekort","Gedekt")) -> Geen controle | D22: =IF(Invoer!$I$10="Nee","Geen controle",IF(COUNTIF(D17:D20,"<0")>0,"Tekort","Gedekt")) -> Gedekt | E22: =IF(Invoer!$I$11="Nee","Geen controle",IF(COUNTIF(E17:E20,"<0")>0,"Tekort","Gedekt")) -> Gedekt | F22: =IF(Invoer!$I$12="Nee","Geen controle",IF(COUNTIF(F17:F20,"<0")>0,"Tekort","Gedekt")) -> Gedekt | G22: =IF(Invoer!$I$13="Nee","Geen controle",IF(COUNTIF(G17:G20,"<0")>0,"Tekort","Gedekt")) -> Gedekt | H22: =IF(Invoer!$I$14="Nee","Geen controle",IF(COUNTIF(H17:H20,"<0")>0,"Tekort","Gedekt")) -> Gedekt | I22: =IF(Invoer!$I$15="Nee","Geen controle",IF(COUNTIF(I17:I20,"<0")>0,"Tekort","Gedekt")) -> Gedekt | J22: =IF(Invoer!$I$16="Nee","Geen controle",IF(COUNTIF(J17:J20,"<0")>0,"Tekort","Gedekt")) -> Gedekt | K22: =IF(Invoer!$I$17="Nee","Geen controle",IF(COUNTIF(K17:K20,"<0")>0,"Tekort","Gedekt")) -> Geen controle
A24: Rood = minder mensen op een post dan minimaal nodig. Los het op door een werktijd of de volgorde van de posten aan te passen.

Sheet Rekenblad
A1: Rekenblad
A2: Hulpberekeningen voor de automatische verdeling. Hier hoef je niets in te vullen. | E2: Aanwezig (1/0) | O2: Volgnummer binnen het blok | Y2: Dienst en volgnummer | AD2: Post per tijdblok | AN2: Teksten voor de uitdraai | AR2: Hele blok aanwezig (1/0)
D3: Bloknummer | E3: 1 | F3: 2 | G3: 3 | H3: 4 | I3: 5 | J3: 6 | K3: 7 | L3: 8 | M3: 9 | O3: 1 | P3: 2 | Q3: 3 | R3: 4 | S3: 5 | T3: 6 | U3: 7 | V3: 8 | W3: 9
A4: Naam | B4: Begin | C4: Eind | D4: Uren | E4: 07:00-09:00 | F4: 09:00-11:00 | G4: 11:00-13:00 | H4: 13:00-15:00 | I4: 15:00-17:00 | J4: 17:00-18:00 | K4: 18:00-20:00 | L4: 20:00-22:00 | M4: 22:00-sluit | O4: 07:00-09:00 | P4: 09:00-11:00 | Q4: 11:00-13:00 | R4: 13:00-15:00 | S4: 15:00-17:00 | T4: 17:00-18:00 | U4: 18:00-20:00 | V4: 20:00-22:00 | W4: 22:00-sluit | Y4: Dienst | Z4: Ochtend nr | AA4: Tussen nr | AB4: Avond nr | AD4: 07:00-09:00 | AE4: 09:00-11:00 | AF4: 11:00-13:00 | AG4: 13:00-15:00 | AH4: 15:00-17:00 | AI4: 17:00-18:00 | AJ4: 18:00-20:00 | AK4: 20:00-22:00 | AL4: 22:00-sluit | AN4: Werktijd | AO4: Pauze | AP4: Opmerking | AR4: 07:00-09:00 | AS4: 09:00-11:00 | AT4: 11:00-13:00 | AU4: 13:00-15:00 | AV4: 15:00-17:00 | AW4: 17:00-18:00 | AX4: 18:00-20:00 | AY4: 20:00-22:00 | AZ4: 22:00-sluit
A5: =IF(Invoer!A9="","",Invoer!A9) -> Lotte | B5: =IF(A5="","",Invoer!B9) -> 0.33333333 | C5: =IF(A5="","",IF(Invoer!C9="sluit",Invoer!$B$6,Invoer!C9)) -> 0.66666667 | D5: =IF(A5="","",ROUND((C5-B5)*24,2)) -> 8 | E5: =IF(A5="",0,IF(AND(B5<Invoer!$H$9,C5>Invoer!$G$9),1,0)) -> 1 | F5: =IF(A5="",0,IF(AND(B5<Invoer!$H$10,C5>Invoer!$G$10),1,0)) -> 1 | G5: =IF(A5="",0,IF(AND(B5<Invoer!$H$11,C5>Invoer!$G$11),1,0)) -> 1 | H5: =IF(A5="",0,IF(AND(B5<Invoer!$H$12,C5>Invoer!$G$12),1,0)) -> 1 | I5: =IF(A5="",0,IF(AND(B5<Invoer!$H$13,C5>Invoer!$G$13),1,0)) -> 1 | J5: =IF(A5="",0,IF(AND(B5<Invoer!$H$14,C5>Invoer!$G$14),1,0)) -> 0 | K5: =IF(A5="",0,IF(AND(B5<Invoer!$H$15,C5>Invoer!$G$15),1,0)) -> 0 | L5: =IF(A5="",0,IF(AND(B5<Invoer!$H$16,C5>Invoer!$G$16),1,0)) -> 0 | M5: =IF(A5="",0,IF(AND(B5<Invoer!$H$17,C5>Invoer!$G$17),1,0)) -> 0 | O5: =IF(E5=0,0,IF(AR5=1,SUM(AR$5:AR5),AR$19+SUM(E$5:E5)-SUM(AR$5:AR5))) -> 1 | P5: =IF(F5=0,0,IF(AS5=1,SUM(AS$5:AS5),AS$19+SUM(F$5:F5)-SUM(AS$5:AS5))) -> 1 | Q5: =IF(G5=0,0,IF(AT5=1,SUM(AT$5:AT5),AT$19+SUM(G$5:G5)-SUM(AT$5:AT5))) -> 1 | R5: =IF(H5=0,0,IF(AU5=1,SUM(AU$5:AU5),AU$19+SUM(H$5:H5)-SUM(AU$5:AU5))) -> 1 | S5: =IF(I5=0,0,IF(AV5=1,SUM(AV$5:AV5),AV$19+SUM(I$5:I5)-SUM(AV$5:AV5))) -> 6 | T5: =IF(J5=0,0,IF(AW5=1,SUM(AW$5:AW5),AW$19+SUM(J$5:J5)-SUM(AW$5:AW5))) -> 0 | U5: =IF(K5=0,0,IF(AX5=1,SUM(AX$5:AX5),AX$19+SUM(K$5:K5)-SUM(AX$5:AX5))) -> 0 | V5: =IF(L5=0,0,IF(AY5=1,SUM(AY$5:AY5),AY$19+SUM(L$5:L5)-SUM(AY$5:AY5))) -> 0 | W5: =IF(M5=0,0,IF(AZ5=1,SUM(AZ$5:AZ5),AZ$19+SUM(M$5:M5)-SUM(AZ$5:AZ5))) -> 0 | Y5: =IF(A5="","",IF(B5<10/24,"Ochtend",IF(B5<14/24,"Tussen","Avond"))) -> Ochtend | Z5: =IF(Y5="Ochtend",COUNTIF(Y$5:Y5,"Ochtend"),"") -> 1 | AA5: =IF(Y5="Tussen",COUNTIF(Y$5:Y5,"Tussen"),"") | AB5: =IF(Y5="Avond",COUNTIF(Y$5:Y5,"Avond"),"") | AD5: =IF($A5="","",IF(E5=0,"X",IF(Invoer!$J$9="X","X",IF(Invoer!$J$9<>"",Invoer!$J$9,INDEX(Invoer!$K$9:$K$20,MOD(IF(AR5=1,MOD(O5-1+2*(E$3-1),AR$19),O5-1),$D$20)+1))&IF(AR5=1,""," ("&IF(C5<Invoer!$H$9,HOUR(C5),HOUR(B5))&")")))) -> X | AE5: =IF($A5="","",IF(F5=0,"X",IF(Invoer!$J$10="X","X",IF(Invoer!$J$10<>"",Invoer!$J$10,INDEX(Invoer!$K$9:$K$20,MOD(IF(AS5=1,MOD(P5-1+2*(F$3-1),AS$19),P5-1),$D$20)+1))&IF(AS5=1,""," ("&IF(C5<Invoer!$H$10,HOUR(C5),HOUR(B5))&")")))) -> Berg | AF5: =IF($A5="","",IF(G5=0,"X",IF(Invoer!$J$11="X","X",IF(Invoer!$J$11<>"",Invoer!$J$11,INDEX(Invoer!$K$9:$K$20,MOD(IF(AT5=1,MOD(Q5-1+2*(G$3-1),AT$19),Q5-1),$D$20)+1))&IF(AT5=1,""," ("&IF(C5<Invoer!$H$11,HOUR(C5),HOUR(B5))&")")))) -> Verhuur | AG5: =IF($A5="","",IF(H5=0,"X",IF(Invoer!$J$12="X","X",IF(Invoer!$J$12<>"",Invoer!$J$12,INDEX(Invoer!$K$9:$K$20,MOD(IF(AU5=1,MOD(R5-1+2*(H$3-1),AU$19),R5-1),$D$20)+1))&IF(AU5=1,""," ("&IF(C5<Invoer!$H$12,HOUR(C5),HOUR(B5))&")")))) -> Berg | AH5: =IF($A5="","",IF(I5=0,"X",IF(Invoer!$J$13="X","X",IF(Invoer!$J$13<>"",Invoer!$J$13,INDEX(Invoer!$K$9:$K$20,MOD(IF(AV5=1,MOD(S5-1+2*(I$3-1),AV$19),S5-1),$D$20)+1))&IF(AV5=1,""," ("&IF(C5<Invoer!$H$13,HOUR(C5),HOUR(B5))&")")))) -> Dal (16) | AI5: =IF($A5="","",IF(J5=0,"X",IF(Invoer!$J$14="X","X",IF(Invoer!$J$14<>"",Invoer!$J$14,INDEX(Invoer!$K$9:$K$20,MOD(IF(AW5=1,MOD(T5-1+2*(J$3-1),AW$19),T5-1),$D$20)+1))&IF(AW5=1,""," ("&IF(C5<Invoer!$H$14,HOUR(C5),HOUR(B5))&")")))) -> X | AJ5: =IF($A5="","",IF(K5=0,"X",IF(Invoer!$J$15="X","X",IF(Invoer!$J$15<>"",Invoer!$J$15,INDEX(Invoer!$K$9:$K$20,MOD(IF(AX5=1,MOD(U5-1+2*(K$3-1),AX$19),U5-1),$D$20)+1))&IF(AX5=1,""," ("&IF(C5<Invoer!$H$15,HOUR(C5),HOUR(B5))&")")))) -> X | AK5: =IF($A5="","",IF(L5=0,"X",IF(Invoer!$J$16="X","X",IF(Invoer!$J$16<>"",Invoer!$J$16,INDEX(Invoer!$K$9:$K$20,MOD(IF(AY5=1,MOD(V5-1+2*(L$3-1),AY$19),V5-1),$D$20)+1))&IF(AY5=1,""," ("&IF(C5<Invoer!$H$16,HOUR(C5),HOUR(B5))&")")))) -> X | AL5: =IF($A5="","",IF(M5=0,"X",IF(Invoer!$J$17="X","X",IF(Invoer!$J$17<>"",Invoer!$J$17,INDEX(Invoer!$K$9:$K$20,MOD(IF(AZ5=1,MOD(W5-1+2*(M$3-1),AZ$19),W5-1),$D$20)+1))&IF(AZ5=1,""," ("&IF(C5<Invoer!$H$17,HOUR(C5),HOUR(B5))&")")))) -> X | AN5: =IF(A5="","",TEXT(Invoer!B9,"hh:mm")&" - "&IF(Invoer!C9="sluit","sluit",TEXT(Invoer!C9,"hh:mm"))) -> 08:00 - 16:00 | AO5: =IF(A5="","",IF(D5>5.5,"30 min","")) -> 30 min | AP5: =IF(Invoer!D9="","",Invoer!D9) | AR5: =IF(A5="",0,IF(AND(B5<=Invoer!$G$9,C5>=Invoer!$H$9),1,0)) -> 0 | AS5: =IF(A5="",0,IF(AND(B5<=Invoer!$G$10,C5>=Invoer!$H$10),1,0)) -> 1 | AT5: =IF(A5="",0,IF(AND(B5<=Invoer!$G$11,C5>=Invoer!$H$11),1,0)) -> 1 | AU5: =IF(A5="",0,IF(AND(B5<=Invoer!$G$12,C5>=Invoer!$H$12),1,0)) -> 1 | AV5: =IF(A5="",0,IF(AND(B5<=Invoer!$G$13,C5>=Invoer!$H$13),1,0)) -> 0 | AW5: =IF(A5="",0,IF(AND(B5<=Invoer!$G$14,C5>=Invoer!$H$14),1,0)) -> 0 | AX5: =IF(A5="",0,IF(AND(B5<=Invoer!$G$15,C5>=Invoer!$H$15),1,0)) -> 0 | AY5: =IF(A5="",0,IF(AND(B5<=Invoer!$G$16,C5>=Invoer!$H$16),1,0)) -> 0 | AZ5: =IF(A5="",0,IF(AND(B5<=Invoer!$G$17,C5>=Invoer!$H$17),1,0)) -> 0
A6: =IF(Invoer!A10="","",Invoer!A10) -> Daan | B6: =IF(A6="","",Invoer!B10) -> 0.36458333 | C6: =IF(A6="","",IF(Invoer!C10="sluit",Invoer!$B$6,Invoer!C10)) -> 0.70833333 | D6: =IF(A6="","",ROUND((C6-B6)*24,2)) -> 8.25 | E6: =IF(A6="",0,IF(AND(B6<Invoer!$H$9,C6>Invoer!$G$9),1,0)) -> 1 | F6: =IF(A6="",0,IF(AND(B6<Invoer!$H$10,C6>Invoer!$G$10),1,0)) -> 1 | G6: =IF(A6="",0,IF(AND(B6<Invoer!$H$11,C6>Invoer!$G$11),1,0)) -> 1 | H6: =IF(A6="",0,IF(AND(B6<Invoer!$H$12,C6>Invoer!$G$12),1,0)) -> 1 | I6: =IF(A6="",0,IF(AND(B6<Invoer!$H$13,C6>Invoer!$G$13),1,0)) -> 1 | J6: =IF(A6="",0,IF(AND(B6<Invoer!$H$14,C6>Invoer!$G$14),1,0)) -> 0 | K6: =IF(A6="",0,IF(AND(B6<Invoer!$H$15,C6>Invoer!$G$15),1,0)) -> 0 | L6: =IF(A6="",0,IF(AND(B6<Invoer!$H$16,C6>Invoer!$G$16),1,0)) -> 0 | M6: =IF(A6="",0,IF(AND(B6<Invoer!$H$17,C6>Invoer!$G$17),1,0)) -> 0 | O6: =IF(E6=0,0,IF(AR6=1,SUM(AR$5:AR6),AR$19+SUM(E$5:E6)-SUM(AR$5:AR6))) -> 2 | P6: =IF(F6=0,0,IF(AS6=1,SUM(AS$5:AS6),AS$19+SUM(F$5:F6)-SUM(AS$5:AS6))) -> 2 | Q6: =IF(G6=0,0,IF(AT6=1,SUM(AT$5:AT6),AT$19+SUM(G$5:G6)-SUM(AT$5:AT6))) -> 2 | R6: =IF(H6=0,0,IF(AU6=1,SUM(AU$5:AU6),AU$19+SUM(H$5:H6)-SUM(AU$5:AU6))) -> 2 | S6: =IF(I6=0,0,IF(AV6=1,SUM(AV$5:AV6),AV$19+SUM(I$5:I6)-SUM(AV$5:AV6))) -> 1 | T6: =IF(J6=0,0,IF(AW6=1,SUM(AW$5:AW6),AW$19+SUM(J$5:J6)-SUM(AW$5:AW6))) -> 0 | U6: =IF(K6=0,0,IF(AX6=1,SUM(AX$5:AX6),AX$19+SUM(K$5:K6)-SUM(AX$5:AX6))) -> 0 | V6: =IF(L6=0,0,IF(AY6=1,SUM(AY$5:AY6),AY$19+SUM(L$5:L6)-SUM(AY$5:AY6))) -> 0 | W6: =IF(M6=0,0,IF(AZ6=1,SUM(AZ$5:AZ6),AZ$19+SUM(M$5:M6)-SUM(AZ$5:AZ6))) -> 0 | Y6: =IF(A6="","",IF(B6<10/24,"Ochtend",IF(B6<14/24,"Tussen","Avond"))) -> Ochtend | Z6: =IF(Y6="Ochtend",COUNTIF(Y$5:Y6,"Ochtend"),"") -> 2 | AA6: =IF(Y6="Tussen",COUNTIF(Y$5:Y6,"Tussen"),"") | AB6: =IF(Y6="Avond",COUNTIF(Y$5:Y6,"Avond"),"") | AD6: =IF($A6="","",IF(E6=0,"X",IF(Invoer!$J$9="X","X",IF(Invoer!$J$9<>"",Invoer!$J$9,INDEX(Invoer!$K$9:$K$20,MOD(IF(AR6=1,MOD(O6-1+2*(E$3-1),AR$19),O6-1),$D$20)+1))&IF(AR6=1,""," ("&IF(C6<Invoer!$H$9,HOUR(C6),HOUR(B6))&")")))) -> X | AE6: =IF($A6="","",IF(F6=0,"X",IF(Invoer!$J$10="X","X",IF(Invoer!$J$10<>"",Invoer!$J$10,INDEX(Invoer!$K$9:$K$20,MOD(IF(AS6=1,MOD(P6-1+2*(F$3-1),AS$19),P6-1),$D$20)+1))&IF(AS6=1,""," ("&IF(C6<Invoer!$H$10,HOUR(C6),HOUR(B6))&")")))) -> Bandliften | AF6: =IF($A6="","",IF(G6=0,"X",IF(Invoer!$J$11="X","X",IF(Invoer!$J$11<>"",Invoer!$J$11,INDEX(Invoer!$K$9:$K$20,MOD(IF(AT6=1,MOD(Q6-1+2*(G$3-1),AT$19),Q6-1),$D$20)+1))&IF(AT6=1,""," ("&IF(C6<Invoer!$H$11,HOUR(C6),HOUR(B6))&")")))) -> Verhuur | AG6: =IF($A6="","",IF(H6=0,"X",IF(Invoer!$J$12="X","X",IF(Invoer!$J$12<>"",Invoer!$J$12,INDEX(Invoer!$K$9:$K$20,MOD(IF(AU6=1,MOD(R6-1+2*(H$3-1),AU$19),R6-1),$D$20)+1))&IF(AU6=1,""," ("&IF(C6<Invoer!$H$12,HOUR(C6),HOUR(B6))&")")))) -> Bandliften | AH6: =IF($A6="","",IF(I6=0,"X",IF(Invoer!$J$13="X","X",IF(Invoer!$J$13<>"",Invoer!$J$13,INDEX(Invoer!$K$9:$K$20,MOD(IF(AV6=1,MOD(S6-1+2*(I$3-1),AV$19),S6-1),$D$20)+1))&IF(AV6=1,""," ("&IF(C6<Invoer!$H$13,HOUR(C6),HOUR(B6))&")")))) -> Bandliften | AI6: =IF($A6="","",IF(J6=0,"X",IF(Invoer!$J$14="X","X",IF(Invoer!$J$14<>"",Invoer!$J$14,INDEX(Invoer!$K$9:$K$20,MOD(IF(AW6=1,MOD(T6-1+2*(J$3-1),AW$19),T6-1),$D$20)+1))&IF(AW6=1,""," ("&IF(C6<Invoer!$H$14,HOUR(C6),HOUR(B6))&")")))) -> X | AJ6: =IF($A6="","",IF(K6=0,"X",IF(Invoer!$J$15="X","X",IF(Invoer!$J$15<>"",Invoer!$J$15,INDEX(Invoer!$K$9:$K$20,MOD(IF(AX6=1,MOD(U6-1+2*(K$3-1),AX$19),U6-1),$D$20)+1))&IF(AX6=1,""," ("&IF(C6<Invoer!$H$15,HOUR(C6),HOUR(B6))&")")))) -> X | AK6: =IF($A6="","",IF(L6=0,"X",IF(Invoer!$J$16="X","X",IF(Invoer!$J$16<>"",Invoer!$J$16,INDEX(Invoer!$K$9:$K$20,MOD(IF(AY6=1,MOD(V6-1+2*(L$3-1),AY$19),V6-1),$D$20)+1))&IF(AY6=1,""," ("&IF(C6<Invoer!$H$16,HOUR(C6),HOUR(B6))&")")))) -> X | AL6: =IF($A6="","",IF(M6=0,"X",IF(Invoer!$J$17="X","X",IF(Invoer!$J$17<>"",Invoer!$J$17,INDEX(Invoer!$K$9:$K$20,MOD(IF(AZ6=1,MOD(W6-1+2*(M$3-1),AZ$19),W6-1),$D$20)+1))&IF(AZ6=1,""," ("&IF(C6<Invoer!$H$17,HOUR(C6),HOUR(B6))&")")))) -> X | AN6: =IF(A6="","",TEXT(Invoer!B10,"hh:mm")&" - "&IF(Invoer!C10="sluit","sluit",TEXT(Invoer!C10,"hh:mm"))) -> 08:45 - 17:00 | AO6: =IF(A6="","",IF(D6>5.5,"30 min","")) -> 30 min | AP6: =IF(Invoer!D10="","",Invoer!D10) | AR6: =IF(A6="",0,IF(AND(B6<=Invoer!$G$9,C6>=Invoer!$H$9),1,0)) -> 0 | AS6: =IF(A6="",0,IF(AND(B6<=Invoer!$G$10,C6>=Invoer!$H$10),1,0)) -> 1 | AT6: =IF(A6="",0,IF(AND(B6<=Invoer!$G$11,C6>=Invoer!$H$11),1,0)) -> 1 | AU6: =IF(A6="",0,IF(AND(B6<=Invoer!$G$12,C6>=Invoer!$H$12),1,0)) -> 1 | AV6: =IF(A6="",0,IF(AND(B6<=Invoer!$G$13,C6>=Invoer!$H$13),1,0)) -> 1 | AW6: =IF(A6="",0,IF(AND(B6<=Invoer!$G$14,C6>=Invoer!$H$14),1,0)) -> 0 | AX6: =IF(A6="",0,IF(AND(B6<=Invoer!$G$15,C6>=Invoer!$H$15),1,0)) -> 0 | AY6: =IF(A6="",0,IF(AND(B6<=Invoer!$G$16,C6>=Invoer!$H$16),1,0)) -> 0 | AZ6: =IF(A6="",0,IF(AND(B6<=Invoer!$G$17,C6>=Invoer!$H$17),1,0)) -> 0
A7: =IF(Invoer!A11="","",Invoer!A11) -> Sanne | B7: =IF(A7="","",Invoer!B11) -> 0.36458333 | C7: =IF(A7="","",IF(Invoer!C11="sluit",Invoer!$B$6,Invoer!C11)) -> 0.70833333 | D7: =IF(A7="","",ROUND((C7-B7)*24,2)) -> 8.25 | E7: =IF(A7="",0,IF(AND(B7<Invoer!$H$9,C7>Invoer!$G$9),1,0)) -> 1 | F7: =IF(A7="",0,IF(AND(B7<Invoer!$H$10,C7>Invoer!$G$10),1,0)) -> 1 | G7: =IF(A7="",0,IF(AND(B7<Invoer!$H$11,C7>Invoer!$G$11),1,0)) -> 1 | H7: =IF(A7="",0,IF(AND(B7<Invoer!$H$12,C7>Invoer!$G$12),1,0)) -> 1 | I7: =IF(A7="",0,IF(AND(B7<Invoer!$H$13,C7>Invoer!$G$13),1,0)) -> 1 | J7: =IF(A7="",0,IF(AND(B7<Invoer!$H$14,C7>Invoer!$G$14),1,0)) -> 0 | K7: =IF(A7="",0,IF(AND(B7<Invoer!$H$15,C7>Invoer!$G$15),1,0)) -> 0 | L7: =IF(A7="",0,IF(AND(B7<Invoer!$H$16,C7>Invoer!$G$16),1,0)) -> 0 | M7: =IF(A7="",0,IF(AND(B7<Invoer!$H$17,C7>Invoer!$G$17),1,0)) -> 0 | O7: =IF(E7=0,0,IF(AR7=1,SUM(AR$5:AR7),AR$19+SUM(E$5:E7)-SUM(AR$5:AR7))) -> 3 | P7: =IF(F7=0,0,IF(AS7=1,SUM(AS$5:AS7),AS$19+SUM(F$5:F7)-SUM(AS$5:AS7))) -> 3 | Q7: =IF(G7=0,0,IF(AT7=1,SUM(AT$5:AT7),AT$19+SUM(G$5:G7)-SUM(AT$5:AT7))) -> 3 | R7: =IF(H7=0,0,IF(AU7=1,SUM(AU$5:AU7),AU$19+SUM(H$5:H7)-SUM(AU$5:AU7))) -> 3 | S7: =IF(I7=0,0,IF(AV7=1,SUM(AV$5:AV7),AV$19+SUM(I$5:I7)-SUM(AV$5:AV7))) -> 2 | T7: =IF(J7=0,0,IF(AW7=1,SUM(AW$5:AW7),AW$19+SUM(J$5:J7)-SUM(AW$5:AW7))) -> 0 | U7: =IF(K7=0,0,IF(AX7=1,SUM(AX$5:AX7),AX$19+SUM(K$5:K7)-SUM(AX$5:AX7))) -> 0 | V7: =IF(L7=0,0,IF(AY7=1,SUM(AY$5:AY7),AY$19+SUM(L$5:L7)-SUM(AY$5:AY7))) -> 0 | W7: =IF(M7=0,0,IF(AZ7=1,SUM(AZ$5:AZ7),AZ$19+SUM(M$5:M7)-SUM(AZ$5:AZ7))) -> 0 | Y7: =IF(A7="","",IF(B7<10/24,"Ochtend",IF(B7<14/24,"Tussen","Avond"))) -> Ochtend | Z7: =IF(Y7="Ochtend",COUNTIF(Y$5:Y7,"Ochtend"),"") -> 3 | AA7: =IF(Y7="Tussen",COUNTIF(Y$5:Y7,"Tussen"),"") | AB7: =IF(Y7="Avond",COUNTIF(Y$5:Y7,"Avond"),"") | AD7: =IF($A7="","",IF(E7=0,"X",IF(Invoer!$J$9="X","X",IF(Invoer!$J$9<>"",Invoer!$J$9,INDEX(Invoer!$K$9:$K$20,MOD(IF(AR7=1,MOD(O7-1+2*(E$3-1),AR$19),O7-1),$D$20)+1))&IF(AR7=1,""," ("&IF(C7<Invoer!$H$9,HOUR(C7),HOUR(B7))&")")))) -> X | AE7: =IF($A7="","",IF(F7=0,"X",IF(Invoer!$J$10="X","X",IF(Invoer!$J$10<>"",Invoer!$J$10,INDEX(Invoer!$K$9:$K$20,MOD(IF(AS7=1,MOD(P7-1+2*(F$3-1),AS$19),P7-1),$D$20)+1))&IF(AS7=1,""," ("&IF(C7<Invoer!$H$10,HOUR(C7),HOUR(B7))&")")))) -> Verhuur | AF7: =IF($A7="","",IF(G7=0,"X",IF(Invoer!$J$11="X","X",IF(Invoer!$J$11<>"",Invoer!$J$11,INDEX(Invoer!$K$9:$K$20,MOD(IF(AT7=1,MOD(Q7-1+2*(G$3-1),AT$19),Q7-1),$D$20)+1))&IF(AT7=1,""," ("&IF(C7<Invoer!$H$11,HOUR(C7),HOUR(B7))&")")))) -> Dal | AG7: =IF($A7="","",IF(H7=0,"X",IF(Invoer!$J$12="X","X",IF(Invoer!$J$12<>"",Invoer!$J$12,INDEX(Invoer!$K$9:$K$20,MOD(IF(AU7=1,MOD(R7-1+2*(H$3-1),AU$19),R7-1),$D$20)+1))&IF(AU7=1,""," ("&IF(C7<Invoer!$H$12,HOUR(C7),HOUR(B7))&")")))) -> Verhuur | AH7: =IF($A7="","",IF(I7=0,"X",IF(Invoer!$J$13="X","X",IF(Invoer!$J$13<>"",Invoer!$J$13,INDEX(Invoer!$K$9:$K$20,MOD(IF(AV7=1,MOD(S7-1+2*(I$3-1),AV$19),S7-1),$D$20)+1))&IF(AV7=1,""," ("&IF(C7<Invoer!$H$13,HOUR(C7),HOUR(B7))&")")))) -> Verhuur | AI7: =IF($A7="","",IF(J7=0,"X",IF(Invoer!$J$14="X","X",IF(Invoer!$J$14<>"",Invoer!$J$14,INDEX(Invoer!$K$9:$K$20,MOD(IF(AW7=1,MOD(T7-1+2*(J$3-1),AW$19),T7-1),$D$20)+1))&IF(AW7=1,""," ("&IF(C7<Invoer!$H$14,HOUR(C7),HOUR(B7))&")")))) -> X | AJ7: =IF($A7="","",IF(K7=0,"X",IF(Invoer!$J$15="X","X",IF(Invoer!$J$15<>"",Invoer!$J$15,INDEX(Invoer!$K$9:$K$20,MOD(IF(AX7=1,MOD(U7-1+2*(K$3-1),AX$19),U7-1),$D$20)+1))&IF(AX7=1,""," ("&IF(C7<Invoer!$H$15,HOUR(C7),HOUR(B7))&")")))) -> X | AK7: =IF($A7="","",IF(L7=0,"X",IF(Invoer!$J$16="X","X",IF(Invoer!$J$16<>"",Invoer!$J$16,INDEX(Invoer!$K$9:$K$20,MOD(IF(AY7=1,MOD(V7-1+2*(L$3-1),AY$19),V7-1),$D$20)+1))&IF(AY7=1,""," ("&IF(C7<Invoer!$H$16,HOUR(C7),HOUR(B7))&")")))) -> X | AL7: =IF($A7="","",IF(M7=0,"X",IF(Invoer!$J$17="X","X",IF(Invoer!$J$17<>"",Invoer!$J$17,INDEX(Invoer!$K$9:$K$20,MOD(IF(AZ7=1,MOD(W7-1+2*(M$3-1),AZ$19),W7-1),$D$20)+1))&IF(AZ7=1,""," ("&IF(C7<Invoer!$H$17,HOUR(C7),HOUR(B7))&")")))) -> X | AN7: =IF(A7="","",TEXT(Invoer!B11,"hh:mm")&" - "&IF(Invoer!C11="sluit","sluit",TEXT(Invoer!C11,"hh:mm"))) -> 08:45 - 17:00 | AO7: =IF(A7="","",IF(D7>5.5,"30 min","")) -> 30 min | AP7: =IF(Invoer!D11="","",Invoer!D11) | AR7: =IF(A7="",0,IF(AND(B7<=Invoer!$G$9,C7>=Invoer!$H$9),1,0)) -> 0 | AS7: =IF(A7="",0,IF(AND(B7<=Invoer!$G$10,C7>=Invoer!$H$10),1,0)) -> 1 | AT7: =IF(A7="",0,IF(AND(B7<=Invoer!$G$11,C7>=Invoer!$H$11),1,0)) -> 1 | AU7: =IF(A7="",0,IF(AND(B7<=Invoer!$G$12,C7>=Invoer!$H$12),1,0)) -> 1 | AV7: =IF(A7="",0,IF(AND(B7<=Invoer!$G$13,C7>=Invoer!$H$13),1,0)) -> 1 | AW7: =IF(A7="",0,IF(AND(B7<=Invoer!$G$14,C7>=Invoer!$H$14),1,0)) -> 0 | AX7: =IF(A7="",0,IF(AND(B7<=Invoer!$G$15,C7>=Invoer!$H$15),1,0)) -> 0 | AY7: =IF(A7="",0,IF(AND(B7<=Invoer!$G$16,C7>=Invoer!$H$16),1,0)) -> 0 | AZ7: =IF(A7="",0,IF(AND(B7<=Invoer!$G$17,C7>=Invoer!$H$17),1,0)) -> 0
A8: =IF(Invoer!A12="","",Invoer!A12) -> Yara | B8: =IF(A8="","",Invoer!B12) -> 0.375 | C8: =IF(A8="","",IF(Invoer!C12="sluit",Invoer!$B$6,Invoer!C12)) -> 0.54166667 | D8: =IF(A8="","",ROUND((C8-B8)*24,2)) -> 4 | E8: =IF(A8="",0,IF(AND(B8<Invoer!$H$9,C8>Invoer!$G$9),1,0)) -> 0 | F8: =IF(A8="",0,IF(AND(B8<Invoer!$H$10,C8>Invoer!$G$10),1,0)) -> 1 | G8: =IF(A8="",0,IF(AND(B8<Invoer!$H$11,C8>Invoer!$G$11),1,0)) -> 1 | H8: =IF(A8="",0,IF(AND(B8<Invoer!$H$12,C8>Invoer!$G$12),1,0)) -> 0 | I8: =IF(A8="",0,IF(AND(B8<Invoer!$H$13,C8>Invoer!$G$13),1,0)) -> 0 | J8: =IF(A8="",0,IF(AND(B8<Invoer!$H$14,C8>Invoer!$G$14),1,0)) -> 0 | K8: =IF(A8="",0,IF(AND(B8<Invoer!$H$15,C8>Invoer!$G$15),1,0)) -> 0 | L8: =IF(A8="",0,IF(AND(B8<Invoer!$H$16,C8>Invoer!$G$16),1,0)) -> 0 | M8: =IF(A8="",0,IF(AND(B8<Invoer!$H$17,C8>Invoer!$G$17),1,0)) -> 0 | O8: =IF(E8=0,0,IF(AR8=1,SUM(AR$5:AR8),AR$19+SUM(E$5:E8)-SUM(AR$5:AR8))) -> 0 | P8: =IF(F8=0,0,IF(AS8=1,SUM(AS$5:AS8),AS$19+SUM(F$5:F8)-SUM(AS$5:AS8))) -> 4 | Q8: =IF(G8=0,0,IF(AT8=1,SUM(AT$5:AT8),AT$19+SUM(G$5:G8)-SUM(AT$5:AT8))) -> 4 | R8: =IF(H8=0,0,IF(AU8=1,SUM(AU$5:AU8),AU$19+SUM(H$5:H8)-SUM(AU$5:AU8))) -> 0 | S8: =IF(I8=0,0,IF(AV8=1,SUM(AV$5:AV8),AV$19+SUM(I$5:I8)-SUM(AV$5:AV8))) -> 0 | T8: =IF(J8=0,0,IF(AW8=1,SUM(AW$5:AW8),AW$19+SUM(J$5:J8)-SUM(AW$5:AW8))) -> 0 | U8: =IF(K8=0,0,IF(AX8=1,SUM(AX$5:AX8),AX$19+SUM(K$5:K8)-SUM(AX$5:AX8))) -> 0 | V8: =IF(L8=0,0,IF(AY8=1,SUM(AY$5:AY8),AY$19+SUM(L$5:L8)-SUM(AY$5:AY8))) -> 0 | W8: =IF(M8=0,0,IF(AZ8=1,SUM(AZ$5:AZ8),AZ$19+SUM(M$5:M8)-SUM(AZ$5:AZ8))) -> 0 | Y8: =IF(A8="","",IF(B8<10/24,"Ochtend",IF(B8<14/24,"Tussen","Avond"))) -> Ochtend | Z8: =IF(Y8="Ochtend",COUNTIF(Y$5:Y8,"Ochtend"),"") -> 4 | AA8: =IF(Y8="Tussen",COUNTIF(Y$5:Y8,"Tussen"),"") | AB8: =IF(Y8="Avond",COUNTIF(Y$5:Y8,"Avond"),"") | AD8: =IF($A8="","",IF(E8=0,"X",IF(Invoer!$J$9="X","X",IF(Invoer!$J$9<>"",Invoer!$J$9,INDEX(Invoer!$K$9:$K$20,MOD(IF(AR8=1,MOD(O8-1+2*(E$3-1),AR$19),O8-1),$D$20)+1))&IF(AR8=1,""," ("&IF(C8<Invoer!$H$9,HOUR(C8),HOUR(B8))&")")))) -> X | AE8: =IF($A8="","",IF(F8=0,"X",IF(Invoer!$J$10="X","X",IF(Invoer!$J$10<>"",Invoer!$J$10,INDEX(Invoer!$K$9:$K$20,MOD(IF(AS8=1,MOD(P8-1+2*(F$3-1),AS$19),P8-1),$D$20)+1))&IF(AS8=1,""," ("&IF(C8<Invoer!$H$10,HOUR(C8),HOUR(B8))&")")))) -> Dal | AF8: =IF($A8="","",IF(G8=0,"X",IF(Invoer!$J$11="X","X",IF(Invoer!$J$11<>"",Invoer!$J$11,INDEX(Invoer!$K$9:$K$20,MOD(IF(AT8=1,MOD(Q8-1+2*(G$3-1),AT$19),Q8-1),$D$20)+1))&IF(AT8=1,""," ("&IF(C8<Invoer!$H$11,HOUR(C8),HOUR(B8))&")")))) -> Berg | AG8: =IF($A8="","",IF(H8=0,"X",IF(Invoer!$J$12="X","X",IF(Invoer!$J$12<>"",Invoer!$J$12,INDEX(Invoer!$K$9:$K$20,MOD(IF(AU8=1,MOD(R8-1+2*(H$3-1),AU$19),R8-1),$D$20)+1))&IF(AU8=1,""," ("&IF(C8<Invoer!$H$12,HOUR(C8),HOUR(B8))&")")))) -> X | AH8: =IF($A8="","",IF(I8=0,"X",IF(Invoer!$J$13="X","X",IF(Invoer!$J$13<>"",Invoer!$J$13,INDEX(Invoer!$K$9:$K$20,MOD(IF(AV8=1,MOD(S8-1+2*(I$3-1),AV$19),S8-1),$D$20)+1))&IF(AV8=1,""," ("&IF(C8<Invoer!$H$13,HOUR(C8),HOUR(B8))&")")))) -> X | AI8: =IF($A8="","",IF(J8=0,"X",IF(Invoer!$J$14="X","X",IF(Invoer!$J$14<>"",Invoer!$J$14,INDEX(Invoer!$K$9:$K$20,MOD(IF(AW8=1,MOD(T8-1+2*(J$3-1),AW$19),T8-1),$D$20)+1))&IF(AW8=1,""," ("&IF(C8<Invoer!$H$14,HOUR(C8),HOUR(B8))&")")))) -> X | AJ8: =IF($A8="","",IF(K8=0,"X",IF(Invoer!$J$15="X","X",IF(Invoer!$J$15<>"",Invoer!$J$15,INDEX(Invoer!$K$9:$K$20,MOD(IF(AX8=1,MOD(U8-1+2*(K$3-1),AX$19),U8-1),$D$20)+1))&IF(AX8=1,""," ("&IF(C8<Invoer!$H$15,HOUR(C8),HOUR(B8))&")")))) -> X | AK8: =IF($A8="","",IF(L8=0,"X",IF(Invoer!$J$16="X","X",IF(Invoer!$J$16<>"",Invoer!$J$16,INDEX(Invoer!$K$9:$K$20,MOD(IF(AY8=1,MOD(V8-1+2*(L$3-1),AY$19),V8-1),$D$20)+1))&IF(AY8=1,""," ("&IF(C8<Invoer!$H$16,HOUR(C8),HOUR(B8))&")")))) -> X | AL8: =IF($A8="","",IF(M8=0,"X",IF(Invoer!$J$17="X","X",IF(Invoer!$J$17<>"",Invoer!$J$17,INDEX(Invoer!$K$9:$K$20,MOD(IF(AZ8=1,MOD(W8-1+2*(M$3-1),AZ$19),W8-1),$D$20)+1))&IF(AZ8=1,""," ("&IF(C8<Invoer!$H$17,HOUR(C8),HOUR(B8))&")")))) -> X | AN8: =IF(A8="","",TEXT(Invoer!B12,"hh:mm")&" - "&IF(Invoer!C12="sluit","sluit",TEXT(Invoer!C12,"hh:mm"))) -> 09:00 - 13:00 | AO8: =IF(A8="","",IF(D8>5.5,"30 min","")) | AP8: =IF(Invoer!D12="","",Invoer!D12) -> Alleen ochtend | AR8: =IF(A8="",0,IF(AND(B8<=Invoer!$G$9,C8>=Invoer!$H$9),1,0)) -> 0 | AS8: =IF(A8="",0,IF(AND(B8<=Invoer!$G$10,C8>=Invoer!$H$10),1,0)) -> 1 | AT8: =IF(A8="",0,IF(AND(B8<=Invoer!$G$11,C8>=Invoer!$H$11),1,0)) -> 1 | AU8: =IF(A8="",0,IF(AND(B8<=Invoer!$G$12,C8>=Invoer!$H$12),1,0)) -> 0 | AV8: =IF(A8="",0,IF(AND(B8<=Invoer!$G$13,C8>=Invoer!$H$13),1,0)) -> 0 | AW8: =IF(A8="",0,IF(AND(B8<=Invoer!$G$14,C8>=Invoer!$H$14),1,0)) -> 0 | AX8: =IF(A8="",0,IF(AND(B8<=Invoer!$G$15,C8>=Invoer!$H$15),1,0)) -> 0 | AY8: =IF(A8="",0,IF(AND(B8<=Invoer!$G$16,C8>=Invoer!$H$16),1,0)) -> 0 | AZ8: =IF(A8="",0,IF(AND(B8<=Invoer!$G$17,C8>=Invoer!$H$17),1,0)) -> 0
A9: =IF(Invoer!A13="","",Invoer!A13) -> Milan | B9: =IF(A9="","",Invoer!B13) -> 0.45833333 | C9: =IF(A9="","",IF(Invoer!C13="sluit",Invoer!$B$6,Invoer!C13)) -> 0.79166667 | D9: =IF(A9="","",ROUND((C9-B9)*24,2)) -> 8 | E9: =IF(A9="",0,IF(AND(B9<Invoer!$H$9,C9>Invoer!$G$9),1,0)) -> 0 | F9: =IF(A9="",0,IF(AND(B9<Invoer!$H$10,C9>Invoer!$G$10),1,0)) -> 0 | G9: =IF(A9="",0,IF(AND(B9<Invoer!$H$11,C9>Invoer!$G$11),1,0)) -> 1 | H9: =IF(A9="",0,IF(AND(B9<Invoer!$H$12,C9>Invoer!$G$12),1,0)) -> 1 | I9: =IF(A9="",0,IF(AND(B9<Invoer!$H$13,C9>Invoer!$G$13),1,0)) -> 1 | J9: =IF(A9="",0,IF(AND(B9<Invoer!$H$14,C9>Invoer!$G$14),1,0)) -> 1 | K9: =IF(A9="",0,IF(AND(B9<Invoer!$H$15,C9>Invoer!$G$15),1,0)) -> 1 | L9: =IF(A9="",0,IF(AND(B9<Invoer!$H$16,C9>Invoer!$G$16),1,0)) -> 0 | M9: =IF(A9="",0,IF(AND(B9<Invoer!$H$17,C9>Invoer!$G$17),1,0)) -> 0 | O9: =IF(E9=0,0,IF(AR9=1,SUM(AR$5:AR9),AR$19+SUM(E$5:E9)-SUM(AR$5:AR9))) -> 0 | P9: =IF(F9=0,0,IF(AS9=1,SUM(AS$5:AS9),AS$19+SUM(F$5:F9)-SUM(AS$5:AS9))) -> 0 | Q9: =IF(G9=0,0,IF(AT9=1,SUM(AT$5:AT9),AT$19+SUM(G$5:G9)-SUM(AT$5:AT9))) -> 5 | R9: =IF(H9=0,0,IF(AU9=1,SUM(AU$5:AU9),AU$19+SUM(H$5:H9)-SUM(AU$5:AU9))) -> 4 | S9: =IF(I9=0,0,IF(AV9=1,SUM(AV$5:AV9),AV$19+SUM(I$5:I9)-SUM(AV$5:AV9))) -> 3 | T9: =IF(J9=0,0,IF(AW9=1,SUM(AW$5:AW9),AW$19+SUM(J$5:J9)-SUM(AW$5:AW9))) -> 1 | U9: =IF(K9=0,0,IF(AX9=1,SUM(AX$5:AX9),AX$19+SUM(K$5:K9)-SUM(AX$5:AX9))) -> 5 | V9: =IF(L9=0,0,IF(AY9=1,SUM(AY$5:AY9),AY$19+SUM(L$5:L9)-SUM(AY$5:AY9))) -> 0 | W9: =IF(M9=0,0,IF(AZ9=1,SUM(AZ$5:AZ9),AZ$19+SUM(M$5:M9)-SUM(AZ$5:AZ9))) -> 0 | Y9: =IF(A9="","",IF(B9<10/24,"Ochtend",IF(B9<14/24,"Tussen","Avond"))) -> Tussen | Z9: =IF(Y9="Ochtend",COUNTIF(Y$5:Y9,"Ochtend"),"") | AA9: =IF(Y9="Tussen",COUNTIF(Y$5:Y9,"Tussen"),"") -> 1 | AB9: =IF(Y9="Avond",COUNTIF(Y$5:Y9,"Avond"),"") | AD9: =IF($A9="","",IF(E9=0,"X",IF(Invoer!$J$9="X","X",IF(Invoer!$J$9<>"",Invoer!$J$9,INDEX(Invoer!$K$9:$K$20,MOD(IF(AR9=1,MOD(O9-1+2*(E$3-1),AR$19),O9-1),$D$20)+1))&IF(AR9=1,""," ("&IF(C9<Invoer!$H$9,HOUR(C9),HOUR(B9))&")")))) -> X | AE9: =IF($A9="","",IF(F9=0,"X",IF(Invoer!$J$10="X","X",IF(Invoer!$J$10<>"",Invoer!$J$10,INDEX(Invoer!$K$9:$K$20,MOD(IF(AS9=1,MOD(P9-1+2*(F$3-1),AS$19),P9-1),$D$20)+1))&IF(AS9=1,""," ("&IF(C9<Invoer!$H$10,HOUR(C9),HOUR(B9))&")")))) -> X | AF9: =IF($A9="","",IF(G9=0,"X",IF(Invoer!$J$11="X","X",IF(Invoer!$J$11<>"",Invoer!$J$11,INDEX(Invoer!$K$9:$K$20,MOD(IF(AT9=1,MOD(Q9-1+2*(G$3-1),AT$19),Q9-1),$D$20)+1))&IF(AT9=1,""," ("&IF(C9<Invoer!$H$11,HOUR(C9),HOUR(B9))&")")))) -> Bandliften | AG9: =IF($A9="","",IF(H9=0,"X",IF(Invoer!$J$12="X","X",IF(Invoer!$J$12<>"",Invoer!$J$12,INDEX(Invoer!$K$9:$K$20,MOD(IF(AU9=1,MOD(R9-1+2*(H$3-1),AU$19),R9-1),$D$20)+1))&IF(AU9=1,""," ("&IF(C9<Invoer!$H$12,HOUR(C9),HOUR(B9))&")")))) -> Dal | AH9: =IF($A9="","",IF(I9=0,"X",IF(Invoer!$J$13="X","X",IF(Invoer!$J$13<>"",Invoer!$J$13,INDEX(Invoer!$K$9:$K$20,MOD(IF(AV9=1,MOD(S9-1+2*(I$3-1),AV$19),S9-1),$D$20)+1))&IF(AV9=1,""," ("&IF(C9<Invoer!$H$13,HOUR(C9),HOUR(B9))&")")))) -> Verhuur | AI9: =IF($A9="","",IF(J9=0,"X",IF(Invoer!$J$14="X","X",IF(Invoer!$J$14<>"",Invoer!$J$14,INDEX(Invoer!$K$9:$K$20,MOD(IF(AW9=1,MOD(T9-1+2*(J$3-1),AW$19),T9-1),$D$20)+1))&IF(AW9=1,""," ("&IF(C9<Invoer!$H$14,HOUR(C9),HOUR(B9))&")")))) -> Berg | AJ9: =IF($A9="","",IF(K9=0,"X",IF(Invoer!$J$15="X","X",IF(Invoer!$J$15<>"",Invoer!$J$15,INDEX(Invoer!$K$9:$K$20,MOD(IF(AX9=1,MOD(U9-1+2*(K$3-1),AX$19),U9-1),$D$20)+1))&IF(AX9=1,""," ("&IF(C9<Invoer!$H$15,HOUR(C9),HOUR(B9))&")")))) -> Verhuur (19) | AK9: =IF($A9="","",IF(L9=0,"X",IF(Invoer!$J$16="X","X",IF(Invoer!$J$16<>"",Invoer!$J$16,INDEX(Invoer!$K$9:$K$20,MOD(IF(AY9=1,MOD(V9-1+2*(L$3-1),AY$19),V9-1),$D$20)+1))&IF(AY9=1,""," ("&IF(C9<Invoer!$H$16,HOUR(C9),HOUR(B9))&")")))) -> X | AL9: =IF($A9="","",IF(M9=0,"X",IF(Invoer!$J$17="X","X",IF(Invoer!$J$17<>"",Invoer!$J$17,INDEX(Invoer!$K$9:$K$20,MOD(IF(AZ9=1,MOD(W9-1+2*(M$3-1),AZ$19),W9-1),$D$20)+1))&IF(AZ9=1,""," ("&IF(C9<Invoer!$H$17,HOUR(C9),HOUR(B9))&")")))) -> X | AN9: =IF(A9="","",TEXT(Invoer!B13,"hh:mm")&" - "&IF(Invoer!C13="sluit","sluit",TEXT(Invoer!C13,"hh:mm"))) -> 11:00 - 19:00 | AO9: =IF(A9="","",IF(D9>5.5,"30 min","")) -> 30 min | AP9: =IF(Invoer!D13="","",Invoer!D13) | AR9: =IF(A9="",0,IF(AND(B9<=Invoer!$G$9,C9>=Invoer!$H$9),1,0)) -> 0 | AS9: =IF(A9="",0,IF(AND(B9<=Invoer!$G$10,C9>=Invoer!$H$10),1,0)) -> 0 | AT9: =IF(A9="",0,IF(AND(B9<=Invoer!$G$11,C9>=Invoer!$H$11),1,0)) -> 1 | AU9: =IF(A9="",0,IF(AND(B9<=Invoer!$G$12,C9>=Invoer!$H$12),1,0)) -> 1 | AV9: =IF(A9="",0,IF(AND(B9<=Invoer!$G$13,C9>=Invoer!$H$13),1,0)) -> 1 | AW9: =IF(A9="",0,IF(AND(B9<=Invoer!$G$14,C9>=Invoer!$H$14),1,0)) -> 1 | AX9: =IF(A9="",0,IF(AND(B9<=Invoer!$G$15,C9>=Invoer!$H$15),1,0)) -> 0 | AY9: =IF(A9="",0,IF(AND(B9<=Invoer!$G$16,C9>=Invoer!$H$16),1,0)) -> 0 | AZ9: =IF(A9="",0,IF(AND(B9<=Invoer!$G$17,C9>=Invoer!$H$17),1,0)) -> 0
A10: =IF(Invoer!A14="","",Invoer!A14) -> Noor | B10: =IF(A10="","",Invoer!B14) -> 0.625 | C10: =IF(A10="","",IF(Invoer!C14="sluit",Invoer!$B$6,Invoer!C14)) -> 0.95833333 | D10: =IF(A10="","",ROUND((C10-B10)*24,2)) -> 8 | E10: =IF(A10="",0,IF(AND(B10<Invoer!$H$9,C10>Invoer!$G$9),1,0)) -> 0 | F10: =IF(A10="",0,IF(AND(B10<Invoer!$H$10,C10>Invoer!$G$10),1,0)) -> 0 | G10: =IF(A10="",0,IF(AND(B10<Invoer!$H$11,C10>Invoer!$G$11),1,0)) -> 0 | H10: =IF(A10="",0,IF(AND(B10<Invoer!$H$12,C10>Invoer!$G$12),1,0)) -> 0 | I10: =IF(A10="",0,IF(AND(B10<Invoer!$H$13,C10>Invoer!$G$13),1,0)) -> 1 | J10: =IF(A10="",0,IF(AND(B10<Invoer!$H$14,C10>Invoer!$G$14),1,0)) -> 1 | K10: =IF(A10="",0,IF(AND(B10<Invoer!$H$15,C10>Invoer!$G$15),1,0)) -> 1 | L10: =IF(A10="",0,IF(AND(B10<Invoer!$H$16,C10>Invoer!$G$16),1,0)) -> 1 | M10: =IF(A10="",0,IF(AND(B10<Invoer!$H$17,C10>Invoer!$G$17),1,0)) -> 1 | O10: =IF(E10=0,0,IF(AR10=1,SUM(AR$5:AR10),AR$19+SUM(E$5:E10)-SUM(AR$5:AR10))) -> 0 | P10: =IF(F10=0,0,IF(AS10=1,SUM(AS$5:AS10),AS$19+SUM(F$5:F10)-SUM(AS$5:AS10))) -> 0 | Q10: =IF(G10=0,0,IF(AT10=1,SUM(AT$5:AT10),AT$19+SUM(G$5:G10)-SUM(AT$5:AT10))) -> 0 | R10: =IF(H10=0,0,IF(AU10=1,SUM(AU$5:AU10),AU$19+SUM(H$5:H10)-SUM(AU$5:AU10))) -> 0 | S10: =IF(I10=0,0,IF(AV10=1,SUM(AV$5:AV10),AV$19+SUM(I$5:I10)-SUM(AV$5:AV10))) -> 4 | T10: =IF(J10=0,0,IF(AW10=1,SUM(AW$5:AW10),AW$19+SUM(J$5:J10)-SUM(AW$5:AW10))) -> 2 | U10: =IF(K10=0,0,IF(AX10=1,SUM(AX$5:AX10),AX$19+SUM(K$5:K10)-SUM(AX$5:AX10))) -> 1 | V10: =IF(L10=0,0,IF(AY10=1,SUM(AY$5:AY10),AY$19+SUM(L$5:L10)-SUM(AY$5:AY10))) -> 1 | W10: =IF(M10=0,0,IF(AZ10=1,SUM(AZ$5:AZ10),AZ$19+SUM(M$5:M10)-SUM(AZ$5:AZ10))) -> 1 | Y10: =IF(A10="","",IF(B10<10/24,"Ochtend",IF(B10<14/24,"Tussen","Avond"))) -> Avond | Z10: =IF(Y10="Ochtend",COUNTIF(Y$5:Y10,"Ochtend"),"") | AA10: =IF(Y10="Tussen",COUNTIF(Y$5:Y10,"Tussen"),"") | AB10: =IF(Y10="Avond",COUNTIF(Y$5:Y10,"Avond"),"") -> 1 | AD10: =IF($A10="","",IF(E10=0,"X",IF(Invoer!$J$9="X","X",IF(Invoer!$J$9<>"",Invoer!$J$9,INDEX(Invoer!$K$9:$K$20,MOD(IF(AR10=1,MOD(O10-1+2*(E$3-1),AR$19),O10-1),$D$20)+1))&IF(AR10=1,""," ("&IF(C10<Invoer!$H$9,HOUR(C10),HOUR(B10))&")")))) -> X | AE10: =IF($A10="","",IF(F10=0,"X",IF(Invoer!$J$10="X","X",IF(Invoer!$J$10<>"",Invoer!$J$10,INDEX(Invoer!$K$9:$K$20,MOD(IF(AS10=1,MOD(P10-1+2*(F$3-1),AS$19),P10-1),$D$20)+1))&IF(AS10=1,""," ("&IF(C10<Invoer!$H$10,HOUR(C10),HOUR(B10))&")")))) -> X | AF10: =IF($A10="","",IF(G10=0,"X",IF(Invoer!$J$11="X","X",IF(Invoer!$J$11<>"",Invoer!$J$11,INDEX(Invoer!$K$9:$K$20,MOD(IF(AT10=1,MOD(Q10-1+2*(G$3-1),AT$19),Q10-1),$D$20)+1))&IF(AT10=1,""," ("&IF(C10<Invoer!$H$11,HOUR(C10),HOUR(B10))&")")))) -> X | AG10: =IF($A10="","",IF(H10=0,"X",IF(Invoer!$J$12="X","X",IF(Invoer!$J$12<>"",Invoer!$J$12,INDEX(Invoer!$K$9:$K$20,MOD(IF(AU10=1,MOD(R10-1+2*(H$3-1),AU$19),R10-1),$D$20)+1))&IF(AU10=1,""," ("&IF(C10<Invoer!$H$12,HOUR(C10),HOUR(B10))&")")))) -> X | AH10: =IF($A10="","",IF(I10=0,"X",IF(Invoer!$J$13="X","X",IF(Invoer!$J$13<>"",Invoer!$J$13,INDEX(Invoer!$K$9:$K$20,MOD(IF(AV10=1,MOD(S10-1+2*(I$3-1),AV$19),S10-1),$D$20)+1))&IF(AV10=1,""," ("&IF(C10<Invoer!$H$13,HOUR(C10),HOUR(B10))&")")))) -> Dal | AI10: =IF($A10="","",IF(J10=0,"X",IF(Invoer!$J$14="X","X",IF(Invoer!$J$14<>"",Invoer!$J$14,INDEX(Invoer!$K$9:$K$20,MOD(IF(AW10=1,MOD(T10-1+2*(J$3-1),AW$19),T10-1),$D$20)+1))&IF(AW10=1,""," ("&IF(C10<Invoer!$H$14,HOUR(C10),HOUR(B10))&")")))) -> Bandliften | AJ10: =IF($A10="","",IF(K10=0,"X",IF(Invoer!$J$15="X","X",IF(Invoer!$J$15<>"",Invoer!$J$15,INDEX(Invoer!$K$9:$K$20,MOD(IF(AX10=1,MOD(U10-1+2*(K$3-1),AX$19),U10-1),$D$20)+1))&IF(AX10=1,""," ("&IF(C10<Invoer!$H$15,HOUR(C10),HOUR(B10))&")")))) -> Verhuur | AK10: =IF($A10="","",IF(L10=0,"X",IF(Invoer!$J$16="X","X",IF(Invoer!$J$16<>"",Invoer!$J$16,INDEX(Invoer!$K$9:$K$20,MOD(IF(AY10=1,MOD(V10-1+2*(L$3-1),AY$19),V10-1),$D$20)+1))&IF(AY10=1,""," ("&IF(C10<Invoer!$H$16,HOUR(C10),HOUR(B10))&")")))) -> Berg | AL10: =IF($A10="","",IF(M10=0,"X",IF(Invoer!$J$17="X","X",IF(Invoer!$J$17<>"",Invoer!$J$17,INDEX(Invoer!$K$9:$K$20,MOD(IF(AZ10=1,MOD(W10-1+2*(M$3-1),AZ$19),W10-1),$D$20)+1))&IF(AZ10=1,""," ("&IF(C10<Invoer!$H$17,HOUR(C10),HOUR(B10))&")")))) -> Sluit | AN10: =IF(A10="","",TEXT(Invoer!B14,"hh:mm")&" - "&IF(Invoer!C14="sluit","sluit",TEXT(Invoer!C14,"hh:mm"))) -> 15:00 - sluit | AO10: =IF(A10="","",IF(D10>5.5,"30 min","")) -> 30 min | AP10: =IF(Invoer!D14="","",Invoer!D14) | AR10: =IF(A10="",0,IF(AND(B10<=Invoer!$G$9,C10>=Invoer!$H$9),1,0)) -> 0 | AS10: =IF(A10="",0,IF(AND(B10<=Invoer!$G$10,C10>=Invoer!$H$10),1,0)) -> 0 | AT10: =IF(A10="",0,IF(AND(B10<=Invoer!$G$11,C10>=Invoer!$H$11),1,0)) -> 0 | AU10: =IF(A10="",0,IF(AND(B10<=Invoer!$G$12,C10>=Invoer!$H$12),1,0)) -> 0 | AV10: =IF(A10="",0,IF(AND(B10<=Invoer!$G$13,C10>=Invoer!$H$13),1,0)) -> 1 | AW10: =IF(A10="",0,IF(AND(B10<=Invoer!$G$14,C10>=Invoer!$H$14),1,0)) -> 1 | AX10: =IF(A10="",0,IF(AND(B10<=Invoer!$G$15,C10>=Invoer!$H$15),1,0)) -> 1 | AY10: =IF(A10="",0,IF(AND(B10<=Invoer!$G$16,C10>=Invoer!$H$16),1,0)) -> 1 | AZ10: =IF(A10="",0,IF(AND(B10<=Invoer!$G$17,C10>=Invoer!$H$17),1,0)) -> 1
A11: =IF(Invoer!A15="","",Invoer!A15) -> Bram | B11: =IF(A11="","",Invoer!B15) -> 0.625 | C11: =IF(A11="","",IF(Invoer!C15="sluit",Invoer!$B$6,Invoer!C15)) -> 0.95833333 | D11: =IF(A11="","",ROUND((C11-B11)*24,2)) -> 8 | E11: =IF(A11="",0,IF(AND(B11<Invoer!$H$9,C11>Invoer!$G$9),1,0)) -> 0 | F11: =IF(A11="",0,IF(AND(B11<Invoer!$H$10,C11>Invoer!$G$10),1,0)) -> 0 | G11: =IF(A11="",0,IF(AND(B11<Invoer!$H$11,C11>Invoer!$G$11),1,0)) -> 0 | H11: =IF(A11="",0,IF(AND(B11<Invoer!$H$12,C11>Invoer!$G$12),1,0)) -> 0 | I11: =IF(A11="",0,IF(AND(B11<Invoer!$H$13,C11>Invoer!$G$13),1,0)) -> 1 | J11: =IF(A11="",0,IF(AND(B11<Invoer!$H$14,C11>Invoer!$G$14),1,0)) -> 1 | K11: =IF(A11="",0,IF(AND(B11<Invoer!$H$15,C11>Invoer!$G$15),1,0)) -> 1 | L11: =IF(A11="",0,IF(AND(B11<Invoer!$H$16,C11>Invoer!$G$16),1,0)) -> 1 | M11: =IF(A11="",0,IF(AND(B11<Invoer!$H$17,C11>Invoer!$G$17),1,0)) -> 1 | O11: =IF(E11=0,0,IF(AR11=1,SUM(AR$5:AR11),AR$19+SUM(E$5:E11)-SUM(AR$5:AR11))) -> 0 | P11: =IF(F11=0,0,IF(AS11=1,SUM(AS$5:AS11),AS$19+SUM(F$5:F11)-SUM(AS$5:AS11))) -> 0 | Q11: =IF(G11=0,0,IF(AT11=1,SUM(AT$5:AT11),AT$19+SUM(G$5:G11)-SUM(AT$5:AT11))) -> 0 | R11: =IF(H11=0,0,IF(AU11=1,SUM(AU$5:AU11),AU$19+SUM(H$5:H11)-SUM(AU$5:AU11))) -> 0 | S11: =IF(I11=0,0,IF(AV11=1,SUM(AV$5:AV11),AV$19+SUM(I$5:I11)-SUM(AV$5:AV11))) -> 5 | T11: =IF(J11=0,0,IF(AW11=1,SUM(AW$5:AW11),AW$19+SUM(J$5:J11)-SUM(AW$5:AW11))) -> 3 | U11: =IF(K11=0,0,IF(AX11=1,SUM(AX$5:AX11),AX$19+SUM(K$5:K11)-SUM(AX$5:AX11))) -> 2 | V11: =IF(L11=0,0,IF(AY11=1,SUM(AY$5:AY11),AY$19+SUM(L$5:L11)-SUM(AY$5:AY11))) -> 2 | W11: =IF(M11=0,0,IF(AZ11=1,SUM(AZ$5:AZ11),AZ$19+SUM(M$5:M11)-SUM(AZ$5:AZ11))) -> 2 | Y11: =IF(A11="","",IF(B11<10/24,"Ochtend",IF(B11<14/24,"Tussen","Avond"))) -> Avond | Z11: =IF(Y11="Ochtend",COUNTIF(Y$5:Y11,"Ochtend"),"") | AA11: =IF(Y11="Tussen",COUNTIF(Y$5:Y11,"Tussen"),"") | AB11: =IF(Y11="Avond",COUNTIF(Y$5:Y11,"Avond"),"") -> 2 | AD11: =IF($A11="","",IF(E11=0,"X",IF(Invoer!$J$9="X","X",IF(Invoer!$J$9<>"",Invoer!$J$9,INDEX(Invoer!$K$9:$K$20,MOD(IF(AR11=1,MOD(O11-1+2*(E$3-1),AR$19),O11-1),$D$20)+1))&IF(AR11=1,""," ("&IF(C11<Invoer!$H$9,HOUR(C11),HOUR(B11))&")")))) -> X | AE11: =IF($A11="","",IF(F11=0,"X",IF(Invoer!$J$10="X","X",IF(Invoer!$J$10<>"",Invoer!$J$10,INDEX(Invoer!$K$9:$K$20,MOD(IF(AS11=1,MOD(P11-1+2*(F$3-1),AS$19),P11-1),$D$20)+1))&IF(AS11=1,""," ("&IF(C11<Invoer!$H$10,HOUR(C11),HOUR(B11))&")")))) -> X | AF11: =IF($A11="","",IF(G11=0,"X",IF(Invoer!$J$11="X","X",IF(Invoer!$J$11<>"",Invoer!$J$11,INDEX(Invoer!$K$9:$K$20,MOD(IF(AT11=1,MOD(Q11-1+2*(G$3-1),AT$19),Q11-1),$D$20)+1))&IF(AT11=1,""," ("&IF(C11<Invoer!$H$11,HOUR(C11),HOUR(B11))&")")))) -> X | AG11: =IF($A11="","",IF(H11=0,"X",IF(Invoer!$J$12="X","X",IF(Invoer!$J$12<>"",Invoer!$J$12,INDEX(Invoer!$K$9:$K$20,MOD(IF(AU11=1,MOD(R11-1+2*(H$3-1),AU$19),R11-1),$D$20)+1))&IF(AU11=1,""," ("&IF(C11<Invoer!$H$12,HOUR(C11),HOUR(B11))&")")))) -> X | AH11: =IF($A11="","",IF(I11=0,"X",IF(Invoer!$J$13="X","X",IF(Invoer!$J$13<>"",Invoer!$J$13,INDEX(Invoer!$K$9:$K$20,MOD(IF(AV11=1,MOD(S11-1+2*(I$3-1),AV$19),S11-1),$D$20)+1))&IF(AV11=1,""," ("&IF(C11<Invoer!$H$13,HOUR(C11),HOUR(B11))&")")))) -> Berg | AI11: =IF($A11="","",IF(J11=0,"X",IF(Invoer!$J$14="X","X",IF(Invoer!$J$14<>"",Invoer!$J$14,INDEX(Invoer!$K$9:$K$20,MOD(IF(AW11=1,MOD(T11-1+2*(J$3-1),AW$19),T11-1),$D$20)+1))&IF(AW11=1,""," ("&IF(C11<Invoer!$H$14,HOUR(C11),HOUR(B11))&")")))) -> Verhuur | AJ11: =IF($A11="","",IF(K11=0,"X",IF(Invoer!$J$15="X","X",IF(Invoer!$J$15<>"",Invoer!$J$15,INDEX(Invoer!$K$9:$K$20,MOD(IF(AX11=1,MOD(U11-1+2*(K$3-1),AX$19),U11-1),$D$20)+1))&IF(AX11=1,""," ("&IF(C11<Invoer!$H$15,HOUR(C11),HOUR(B11))&")")))) -> Dal | AK11: =IF($A11="","",IF(L11=0,"X",IF(Invoer!$J$16="X","X",IF(Invoer!$J$16<>"",Invoer!$J$16,INDEX(Invoer!$K$9:$K$20,MOD(IF(AY11=1,MOD(V11-1+2*(L$3-1),AY$19),V11-1),$D$20)+1))&IF(AY11=1,""," ("&IF(C11<Invoer!$H$16,HOUR(C11),HOUR(B11))&")")))) -> Bandliften | AL11: =IF($A11="","",IF(M11=0,"X",IF(Invoer!$J$17="X","X",IF(Invoer!$J$17<>"",Invoer!$J$17,INDEX(Invoer!$K$9:$K$20,MOD(IF(AZ11=1,MOD(W11-1+2*(M$3-1),AZ$19),W11-1),$D$20)+1))&IF(AZ11=1,""," ("&IF(C11<Invoer!$H$17,HOUR(C11),HOUR(B11))&")")))) -> Sluit | AN11: =IF(A11="","",TEXT(Invoer!B15,"hh:mm")&" - "&IF(Invoer!C15="sluit","sluit",TEXT(Invoer!C15,"hh:mm"))) -> 15:00 - sluit | AO11: =IF(A11="","",IF(D11>5.5,"30 min","")) -> 30 min | AP11: =IF(Invoer!D15="","",Invoer!D15) | AR11: =IF(A11="",0,IF(AND(B11<=Invoer!$G$9,C11>=Invoer!$H$9),1,0)) -> 0 | AS11: =IF(A11="",0,IF(AND(B11<=Invoer!$G$10,C11>=Invoer!$H$10),1,0)) -> 0 | AT11: =IF(A11="",0,IF(AND(B11<=Invoer!$G$11,C11>=Invoer!$H$11),1,0)) -> 0 | AU11: =IF(A11="",0,IF(AND(B11<=Invoer!$G$12,C11>=Invoer!$H$12),1,0)) -> 0 | AV11: =IF(A11="",0,IF(AND(B11<=Invoer!$G$13,C11>=Invoer!$H$13),1,0)) -> 1 | AW11: =IF(A11="",0,IF(AND(B11<=Invoer!$G$14,C11>=Invoer!$H$14),1,0)) -> 1 | AX11: =IF(A11="",0,IF(AND(B11<=Invoer!$G$15,C11>=Invoer!$H$15),1,0)) -> 1 | AY11: =IF(A11="",0,IF(AND(B11<=Invoer!$G$16,C11>=Invoer!$H$16),1,0)) -> 1 | AZ11: =IF(A11="",0,IF(AND(B11<=Invoer!$G$17,C11>=Invoer!$H$17),1,0)) -> 1
A12: =IF(Invoer!A16="","",Invoer!A16) -> Eva | B12: =IF(A12="","",Invoer!B16) -> 0.70833333 | C12: =IF(A12="","",IF(Invoer!C16="sluit",Invoer!$B$6,Invoer!C16)) -> 0.95833333 | D12: =IF(A12="","",ROUND((C12-B12)*24,2)) -> 6 | E12: =IF(A12="",0,IF(AND(B12<Invoer!$H$9,C12>Invoer!$G$9),1,0)) -> 0 | F12: =IF(A12="",0,IF(AND(B12<Invoer!$H$10,C12>Invoer!$G$10),1,0)) -> 0 | G12: =IF(A12="",0,IF(AND(B12<Invoer!$H$11,C12>Invoer!$G$11),1,0)) -> 0 | H12: =IF(A12="",0,IF(AND(B12<Invoer!$H$12,C12>Invoer!$G$12),1,0)) -> 0 | I12: =IF(A12="",0,IF(AND(B12<Invoer!$H$13,C12>Invoer!$G$13),1,0)) -> 0 | J12: =IF(A12="",0,IF(AND(B12<Invoer!$H$14,C12>Invoer!$G$14),1,0)) -> 1 | K12: =IF(A12="",0,IF(AND(B12<Invoer!$H$15,C12>Invoer!$G$15),1,0)) -> 1 | L12: =IF(A12="",0,IF(AND(B12<Invoer!$H$16,C12>Invoer!$G$16),1,0)) -> 1 | M12: =IF(A12="",0,IF(AND(B12<Invoer!$H$17,C12>Invoer!$G$17),1,0)) -> 1 | O12: =IF(E12=0,0,IF(AR12=1,SUM(AR$5:AR12),AR$19+SUM(E$5:E12)-SUM(AR$5:AR12))) -> 0 | P12: =IF(F12=0,0,IF(AS12=1,SUM(AS$5:AS12),AS$19+SUM(F$5:F12)-SUM(AS$5:AS12))) -> 0 | Q12: =IF(G12=0,0,IF(AT12=1,SUM(AT$5:AT12),AT$19+SUM(G$5:G12)-SUM(AT$5:AT12))) -> 0 | R12: =IF(H12=0,0,IF(AU12=1,SUM(AU$5:AU12),AU$19+SUM(H$5:H12)-SUM(AU$5:AU12))) -> 0 | S12: =IF(I12=0,0,IF(AV12=1,SUM(AV$5:AV12),AV$19+SUM(I$5:I12)-SUM(AV$5:AV12))) -> 0 | T12: =IF(J12=0,0,IF(AW12=1,SUM(AW$5:AW12),AW$19+SUM(J$5:J12)-SUM(AW$5:AW12))) -> 4 | U12: =IF(K12=0,0,IF(AX12=1,SUM(AX$5:AX12),AX$19+SUM(K$5:K12)-SUM(AX$5:AX12))) -> 3 | V12: =IF(L12=0,0,IF(AY12=1,SUM(AY$5:AY12),AY$19+SUM(L$5:L12)-SUM(AY$5:AY12))) -> 3 | W12: =IF(M12=0,0,IF(AZ12=1,SUM(AZ$5:AZ12),AZ$19+SUM(M$5:M12)-SUM(AZ$5:AZ12))) -> 3 | Y12: =IF(A12="","",IF(B12<10/24,"Ochtend",IF(B12<14/24,"Tussen","Avond"))) -> Avond | Z12: =IF(Y12="Ochtend",COUNTIF(Y$5:Y12,"Ochtend"),"") | AA12: =IF(Y12="Tussen",COUNTIF(Y$5:Y12,"Tussen"),"") | AB12: =IF(Y12="Avond",COUNTIF(Y$5:Y12,"Avond"),"") -> 3 | AD12: =IF($A12="","",IF(E12=0,"X",IF(Invoer!$J$9="X","X",IF(Invoer!$J$9<>"",Invoer!$J$9,INDEX(Invoer!$K$9:$K$20,MOD(IF(AR12=1,MOD(O12-1+2*(E$3-1),AR$19),O12-1),$D$20)+1))&IF(AR12=1,""," ("&IF(C12<Invoer!$H$9,HOUR(C12),HOUR(B12))&")")))) -> X | AE12: =IF($A12="","",IF(F12=0,"X",IF(Invoer!$J$10="X","X",IF(Invoer!$J$10<>"",Invoer!$J$10,INDEX(Invoer!$K$9:$K$20,MOD(IF(AS12=1,MOD(P12-1+2*(F$3-1),AS$19),P12-1),$D$20)+1))&IF(AS12=1,""," ("&IF(C12<Invoer!$H$10,HOUR(C12),HOUR(B12))&")")))) -> X | AF12: =IF($A12="","",IF(G12=0,"X",IF(Invoer!$J$11="X","X",IF(Invoer!$J$11<>"",Invoer!$J$11,INDEX(Invoer!$K$9:$K$20,MOD(IF(AT12=1,MOD(Q12-1+2*(G$3-1),AT$19),Q12-1),$D$20)+1))&IF(AT12=1,""," ("&IF(C12<Invoer!$H$11,HOUR(C12),HOUR(B12))&")")))) -> X | AG12: =IF($A12="","",IF(H12=0,"X",IF(Invoer!$J$12="X","X",IF(Invoer!$J$12<>"",Invoer!$J$12,INDEX(Invoer!$K$9:$K$20,MOD(IF(AU12=1,MOD(R12-1+2*(H$3-1),AU$19),R12-1),$D$20)+1))&IF(AU12=1,""," ("&IF(C12<Invoer!$H$12,HOUR(C12),HOUR(B12))&")")))) -> X | AH12: =IF($A12="","",IF(I12=0,"X",IF(Invoer!$J$13="X","X",IF(Invoer!$J$13<>"",Invoer!$J$13,INDEX(Invoer!$K$9:$K$20,MOD(IF(AV12=1,MOD(S12-1+2*(I$3-1),AV$19),S12-1),$D$20)+1))&IF(AV12=1,""," ("&IF(C12<Invoer!$H$13,HOUR(C12),HOUR(B12))&")")))) -> X | AI12: =IF($A12="","",IF(J12=0,"X",IF(Invoer!$J$14="X","X",IF(Invoer!$J$14<>"",Invoer!$J$14,INDEX(Invoer!$K$9:$K$20,MOD(IF(AW12=1,MOD(T12-1+2*(J$3-1),AW$19),T12-1),$D$20)+1))&IF(AW12=1,""," ("&IF(C12<Invoer!$H$14,HOUR(C12),HOUR(B12))&")")))) -> Dal | AJ12: =IF($A12="","",IF(K12=0,"X",IF(Invoer!$J$15="X","X",IF(Invoer!$J$15<>"",Invoer!$J$15,INDEX(Invoer!$K$9:$K$20,MOD(IF(AX12=1,MOD(U12-1+2*(K$3-1),AX$19),U12-1),$D$20)+1))&IF(AX12=1,""," ("&IF(C12<Invoer!$H$15,HOUR(C12),HOUR(B12))&")")))) -> Berg | AK12: =IF($A12="","",IF(L12=0,"X",IF(Invoer!$J$16="X","X",IF(Invoer!$J$16<>"",Invoer!$J$16,INDEX(Invoer!$K$9:$K$20,MOD(IF(AY12=1,MOD(V12-1+2*(L$3-1),AY$19),V12-1),$D$20)+1))&IF(AY12=1,""," ("&IF(C12<Invoer!$H$16,HOUR(C12),HOUR(B12))&")")))) -> Verhuur | AL12: =IF($A12="","",IF(M12=0,"X",IF(Invoer!$J$17="X","X",IF(Invoer!$J$17<>"",Invoer!$J$17,INDEX(Invoer!$K$9:$K$20,MOD(IF(AZ12=1,MOD(W12-1+2*(M$3-1),AZ$19),W12-1),$D$20)+1))&IF(AZ12=1,""," ("&IF(C12<Invoer!$H$17,HOUR(C12),HOUR(B12))&")")))) -> Sluit | AN12: =IF(A12="","",TEXT(Invoer!B16,"hh:mm")&" - "&IF(Invoer!C16="sluit","sluit",TEXT(Invoer!C16,"hh:mm"))) -> 17:00 - sluit | AO12: =IF(A12="","",IF(D12>5.5,"30 min","")) -> 30 min | AP12: =IF(Invoer!D16="","",Invoer!D16) | AR12: =IF(A12="",0,IF(AND(B12<=Invoer!$G$9,C12>=Invoer!$H$9),1,0)) -> 0 | AS12: =IF(A12="",0,IF(AND(B12<=Invoer!$G$10,C12>=Invoer!$H$10),1,0)) -> 0 | AT12: =IF(A12="",0,IF(AND(B12<=Invoer!$G$11,C12>=Invoer!$H$11),1,0)) -> 0 | AU12: =IF(A12="",0,IF(AND(B12<=Invoer!$G$12,C12>=Invoer!$H$12),1,0)) -> 0 | AV12: =IF(A12="",0,IF(AND(B12<=Invoer!$G$13,C12>=Invoer!$H$13),1,0)) -> 0 | AW12: =IF(A12="",0,IF(AND(B12<=Invoer!$G$14,C12>=Invoer!$H$14),1,0)) -> 1 | AX12: =IF(A12="",0,IF(AND(B12<=Invoer!$G$15,C12>=Invoer!$H$15),1,0)) -> 1 | AY12: =IF(A12="",0,IF(AND(B12<=Invoer!$G$16,C12>=Invoer!$H$16),1,0)) -> 1 | AZ12: =IF(A12="",0,IF(AND(B12<=Invoer!$G$17,C12>=Invoer!$H$17),1,0)) -> 1
A13: =IF(Invoer!A17="","",Invoer!A17) -> Sem | B13: =IF(A13="","",Invoer!B17) -> 0.75 | C13: =IF(A13="","",IF(Invoer!C17="sluit",Invoer!$B$6,Invoer!C17)) -> 0.95833333 | D13: =IF(A13="","",ROUND((C13-B13)*24,2)) -> 5 | E13: =IF(A13="",0,IF(AND(B13<Invoer!$H$9,C13>Invoer!$G$9),1,0)) -> 0 | F13: =IF(A13="",0,IF(AND(B13<Invoer!$H$10,C13>Invoer!$G$10),1,0)) -> 0 | G13: =IF(A13="",0,IF(AND(B13<Invoer!$H$11,C13>Invoer!$G$11),1,0)) -> 0 | H13: =IF(A13="",0,IF(AND(B13<Invoer!$H$12,C13>Invoer!$G$12),1,0)) -> 0 | I13: =IF(A13="",0,IF(AND(B13<Invoer!$H$13,C13>Invoer!$G$13),1,0)) -> 0 | J13: =IF(A13="",0,IF(AND(B13<Invoer!$H$14,C13>Invoer!$G$14),1,0)) -> 0 | K13: =IF(A13="",0,IF(AND(B13<Invoer!$H$15,C13>Invoer!$G$15),1,0)) -> 1 | L13: =IF(A13="",0,IF(AND(B13<Invoer!$H$16,C13>Invoer!$G$16),1,0)) -> 1 | M13: =IF(A13="",0,IF(AND(B13<Invoer!$H$17,C13>Invoer!$G$17),1,0)) -> 1 | O13: =IF(E13=0,0,IF(AR13=1,SUM(AR$5:AR13),AR$19+SUM(E$5:E13)-SUM(AR$5:AR13))) -> 0 | P13: =IF(F13=0,0,IF(AS13=1,SUM(AS$5:AS13),AS$19+SUM(F$5:F13)-SUM(AS$5:AS13))) -> 0 | Q13: =IF(G13=0,0,IF(AT13=1,SUM(AT$5:AT13),AT$19+SUM(G$5:G13)-SUM(AT$5:AT13))) -> 0 | R13: =IF(H13=0,0,IF(AU13=1,SUM(AU$5:AU13),AU$19+SUM(H$5:H13)-SUM(AU$5:AU13))) -> 0 | S13: =IF(I13=0,0,IF(AV13=1,SUM(AV$5:AV13),AV$19+SUM(I$5:I13)-SUM(AV$5:AV13))) -> 0 | T13: =IF(J13=0,0,IF(AW13=1,SUM(AW$5:AW13),AW$19+SUM(J$5:J13)-SUM(AW$5:AW13))) -> 0 | U13: =IF(K13=0,0,IF(AX13=1,SUM(AX$5:AX13),AX$19+SUM(K$5:K13)-SUM(AX$5:AX13))) -> 4 | V13: =IF(L13=0,0,IF(AY13=1,SUM(AY$5:AY13),AY$19+SUM(L$5:L13)-SUM(AY$5:AY13))) -> 4 | W13: =IF(M13=0,0,IF(AZ13=1,SUM(AZ$5:AZ13),AZ$19+SUM(M$5:M13)-SUM(AZ$5:AZ13))) -> 4 | Y13: =IF(A13="","",IF(B13<10/24,"Ochtend",IF(B13<14/24,"Tussen","Avond"))) -> Avond | Z13: =IF(Y13="Ochtend",COUNTIF(Y$5:Y13,"Ochtend"),"") | AA13: =IF(Y13="Tussen",COUNTIF(Y$5:Y13,"Tussen"),"") | AB13: =IF(Y13="Avond",COUNTIF(Y$5:Y13,"Avond"),"") -> 4 | AD13: =IF($A13="","",IF(E13=0,"X",IF(Invoer!$J$9="X","X",IF(Invoer!$J$9<>"",Invoer!$J$9,INDEX(Invoer!$K$9:$K$20,MOD(IF(AR13=1,MOD(O13-1+2*(E$3-1),AR$19),O13-1),$D$20)+1))&IF(AR13=1,""," ("&IF(C13<Invoer!$H$9,HOUR(C13),HOUR(B13))&")")))) -> X | AE13: =IF($A13="","",IF(F13=0,"X",IF(Invoer!$J$10="X","X",IF(Invoer!$J$10<>"",Invoer!$J$10,INDEX(Invoer!$K$9:$K$20,MOD(IF(AS13=1,MOD(P13-1+2*(F$3-1),AS$19),P13-1),$D$20)+1))&IF(AS13=1,""," ("&IF(C13<Invoer!$H$10,HOUR(C13),HOUR(B13))&")")))) -> X | AF13: =IF($A13="","",IF(G13=0,"X",IF(Invoer!$J$11="X","X",IF(Invoer!$J$11<>"",Invoer!$J$11,INDEX(Invoer!$K$9:$K$20,MOD(IF(AT13=1,MOD(Q13-1+2*(G$3-1),AT$19),Q13-1),$D$20)+1))&IF(AT13=1,""," ("&IF(C13<Invoer!$H$11,HOUR(C13),HOUR(B13))&")")))) -> X | AG13: =IF($A13="","",IF(H13=0,"X",IF(Invoer!$J$12="X","X",IF(Invoer!$J$12<>"",Invoer!$J$12,INDEX(Invoer!$K$9:$K$20,MOD(IF(AU13=1,MOD(R13-1+2*(H$3-1),AU$19),R13-1),$D$20)+1))&IF(AU13=1,""," ("&IF(C13<Invoer!$H$12,HOUR(C13),HOUR(B13))&")")))) -> X | AH13: =IF($A13="","",IF(I13=0,"X",IF(Invoer!$J$13="X","X",IF(Invoer!$J$13<>"",Invoer!$J$13,INDEX(Invoer!$K$9:$K$20,MOD(IF(AV13=1,MOD(S13-1+2*(I$3-1),AV$19),S13-1),$D$20)+1))&IF(AV13=1,""," ("&IF(C13<Invoer!$H$13,HOUR(C13),HOUR(B13))&")")))) -> X | AI13: =IF($A13="","",IF(J13=0,"X",IF(Invoer!$J$14="X","X",IF(Invoer!$J$14<>"",Invoer!$J$14,INDEX(Invoer!$K$9:$K$20,MOD(IF(AW13=1,MOD(T13-1+2*(J$3-1),AW$19),T13-1),$D$20)+1))&IF(AW13=1,""," ("&IF(C13<Invoer!$H$14,HOUR(C13),HOUR(B13))&")")))) -> X | AJ13: =IF($A13="","",IF(K13=0,"X",IF(Invoer!$J$15="X","X",IF(Invoer!$J$15<>"",Invoer!$J$15,INDEX(Invoer!$K$9:$K$20,MOD(IF(AX13=1,MOD(U13-1+2*(K$3-1),AX$19),U13-1),$D$20)+1))&IF(AX13=1,""," ("&IF(C13<Invoer!$H$15,HOUR(C13),HOUR(B13))&")")))) -> Bandliften | AK13: =IF($A13="","",IF(L13=0,"X",IF(Invoer!$J$16="X","X",IF(Invoer!$J$16<>"",Invoer!$J$16,INDEX(Invoer!$K$9:$K$20,MOD(IF(AY13=1,MOD(V13-1+2*(L$3-1),AY$19),V13-1),$D$20)+1))&IF(AY13=1,""," ("&IF(C13<Invoer!$H$16,HOUR(C13),HOUR(B13))&")")))) -> Dal | AL13: =IF($A13="","",IF(M13=0,"X",IF(Invoer!$J$17="X","X",IF(Invoer!$J$17<>"",Invoer!$J$17,INDEX(Invoer!$K$9:$K$20,MOD(IF(AZ13=1,MOD(W13-1+2*(M$3-1),AZ$19),W13-1),$D$20)+1))&IF(AZ13=1,""," ("&IF(C13<Invoer!$H$17,HOUR(C13),HOUR(B13))&")")))) -> Sluit | AN13: =IF(A13="","",TEXT(Invoer!B17,"hh:mm")&" - "&IF(Invoer!C17="sluit","sluit",TEXT(Invoer!C17,"hh:mm"))) -> 18:00 - sluit | AO13: =IF(A13="","",IF(D13>5.5,"30 min","")) | AP13: =IF(Invoer!D17="","",Invoer!D17) | AR13: =IF(A13="",0,IF(AND(B13<=Invoer!$G$9,C13>=Invoer!$H$9),1,0)) -> 0 | AS13: =IF(A13="",0,IF(AND(B13<=Invoer!$G$10,C13>=Invoer!$H$10),1,0)) -> 0 | AT13: =IF(A13="",0,IF(AND(B13<=Invoer!$G$11,C13>=Invoer!$H$11),1,0)) -> 0 | AU13: =IF(A13="",0,IF(AND(B13<=Invoer!$G$12,C13>=Invoer!$H$12),1,0)) -> 0 | AV13: =IF(A13="",0,IF(AND(B13<=Invoer!$G$13,C13>=Invoer!$H$13),1,0)) -> 0 | AW13: =IF(A13="",0,IF(AND(B13<=Invoer!$G$14,C13>=Invoer!$H$14),1,0)) -> 0 | AX13: =IF(A13="",0,IF(AND(B13<=Invoer!$G$15,C13>=Invoer!$H$15),1,0)) -> 1 | AY13: =IF(A13="",0,IF(AND(B13<=Invoer!$G$16,C13>=Invoer!$H$16),1,0)) -> 1 | AZ13: =IF(A13="",0,IF(AND(B13<=Invoer!$G$17,C13>=Invoer!$H$17),1,0)) -> 1
A14: =IF(Invoer!A18="","",Invoer!A18) | B14: =IF(A14="","",Invoer!B18) | C14: =IF(A14="","",IF(Invoer!C18="sluit",Invoer!$B$6,Invoer!C18)) | D14: =IF(A14="","",ROUND((C14-B14)*24,2)) | E14: =IF(A14="",0,IF(AND(B14<Invoer!$H$9,C14>Invoer!$G$9),1,0)) -> 0 | F14: =IF(A14="",0,IF(AND(B14<Invoer!$H$10,C14>Invoer!$G$10),1,0)) -> 0 | G14: =IF(A14="",0,IF(AND(B14<Invoer!$H$11,C14>Invoer!$G$11),1,0)) -> 0 | H14: =IF(A14="",0,IF(AND(B14<Invoer!$H$12,C14>Invoer!$G$12),1,0)) -> 0 | I14: =IF(A14="",0,IF(AND(B14<Invoer!$H$13,C14>Invoer!$G$13),1,0)) -> 0 | J14: =IF(A14="",0,IF(AND(B14<Invoer!$H$14,C14>Invoer!$G$14),1,0)) -> 0 | K14: =IF(A14="",0,IF(AND(B14<Invoer!$H$15,C14>Invoer!$G$15),1,0)) -> 0 | L14: =IF(A14="",0,IF(AND(B14<Invoer!$H$16,C14>Invoer!$G$16),1,0)) -> 0 | M14: =IF(A14="",0,IF(AND(B14<Invoer!$H$17,C14>Invoer!$G$17),1,0)) -> 0 | O14: =IF(E14=0,0,IF(AR14=1,SUM(AR$5:AR14),AR$19+SUM(E$5:E14)-SUM(AR$5:AR14))) -> 0 | P14: =IF(F14=0,0,IF(AS14=1,SUM(AS$5:AS14),AS$19+SUM(F$5:F14)-SUM(AS$5:AS14))) -> 0 | Q14: =IF(G14=0,0,IF(AT14=1,SUM(AT$5:AT14),AT$19+SUM(G$5:G14)-SUM(AT$5:AT14))) -> 0 | R14: =IF(H14=0,0,IF(AU14=1,SUM(AU$5:AU14),AU$19+SUM(H$5:H14)-SUM(AU$5:AU14))) -> 0 | S14: =IF(I14=0,0,IF(AV14=1,SUM(AV$5:AV14),AV$19+SUM(I$5:I14)-SUM(AV$5:AV14))) -> 0 | T14: =IF(J14=0,0,IF(AW14=1,SUM(AW$5:AW14),AW$19+SUM(J$5:J14)-SUM(AW$5:AW14))) -> 0 | U14: =IF(K14=0,0,IF(AX14=1,SUM(AX$5:AX14),AX$19+SUM(K$5:K14)-SUM(AX$5:AX14))) -> 0 | V14: =IF(L14=0,0,IF(AY14=1,SUM(AY$5:AY14),AY$19+SUM(L$5:L14)-SUM(AY$5:AY14))) -> 0 | W14: =IF(M14=0,0,IF(AZ14=1,SUM(AZ$5:AZ14),AZ$19+SUM(M$5:M14)-SUM(AZ$5:AZ14))) -> 0 | Y14: =IF(A14="","",IF(B14<10/24,"Ochtend",IF(B14<14/24,"Tussen","Avond"))) | Z14: =IF(Y14="Ochtend",COUNTIF(Y$5:Y14,"Ochtend"),"") | AA14: =IF(Y14="Tussen",COUNTIF(Y$5:Y14,"Tussen"),"") | AB14: =IF(Y14="Avond",COUNTIF(Y$5:Y14,"Avond"),"") | AD14: =IF($A14="","",IF(E14=0,"X",IF(Invoer!$J$9="X","X",IF(Invoer!$J$9<>"",Invoer!$J$9,INDEX(Invoer!$K$9:$K$20,MOD(IF(AR14=1,MOD(O14-1+2*(E$3-1),AR$19),O14-1),$D$20)+1))&IF(AR14=1,""," ("&IF(C14<Invoer!$H$9,HOUR(C14),HOUR(B14))&")")))) | AE14: =IF($A14="","",IF(F14=0,"X",IF(Invoer!$J$10="X","X",IF(Invoer!$J$10<>"",Invoer!$J$10,INDEX(Invoer!$K$9:$K$20,MOD(IF(AS14=1,MOD(P14-1+2*(F$3-1),AS$19),P14-1),$D$20)+1))&IF(AS14=1,""," ("&IF(C14<Invoer!$H$10,HOUR(C14),HOUR(B14))&")")))) | AF14: =IF($A14="","",IF(G14=0,"X",IF(Invoer!$J$11="X","X",IF(Invoer!$J$11<>"",Invoer!$J$11,INDEX(Invoer!$K$9:$K$20,MOD(IF(AT14=1,MOD(Q14-1+2*(G$3-1),AT$19),Q14-1),$D$20)+1))&IF(AT14=1,""," ("&IF(C14<Invoer!$H$11,HOUR(C14),HOUR(B14))&")")))) | AG14: =IF($A14="","",IF(H14=0,"X",IF(Invoer!$J$12="X","X",IF(Invoer!$J$12<>"",Invoer!$J$12,INDEX(Invoer!$K$9:$K$20,MOD(IF(AU14=1,MOD(R14-1+2*(H$3-1),AU$19),R14-1),$D$20)+1))&IF(AU14=1,""," ("&IF(C14<Invoer!$H$12,HOUR(C14),HOUR(B14))&")")))) | AH14: =IF($A14="","",IF(I14=0,"X",IF(Invoer!$J$13="X","X",IF(Invoer!$J$13<>"",Invoer!$J$13,INDEX(Invoer!$K$9:$K$20,MOD(IF(AV14=1,MOD(S14-1+2*(I$3-1),AV$19),S14-1),$D$20)+1))&IF(AV14=1,""," ("&IF(C14<Invoer!$H$13,HOUR(C14),HOUR(B14))&")")))) | AI14: =IF($A14="","",IF(J14=0,"X",IF(Invoer!$J$14="X","X",IF(Invoer!$J$14<>"",Invoer!$J$14,INDEX(Invoer!$K$9:$K$20,MOD(IF(AW14=1,MOD(T14-1+2*(J$3-1),AW$19),T14-1),$D$20)+1))&IF(AW14=1,""," ("&IF(C14<Invoer!$H$14,HOUR(C14),HOUR(B14))&")")))) | AJ14: =IF($A14="","",IF(K14=0,"X",IF(Invoer!$J$15="X","X",IF(Invoer!$J$15<>"",Invoer!$J$15,INDEX(Invoer!$K$9:$K$20,MOD(IF(AX14=1,MOD(U14-1+2*(K$3-1),AX$19),U14-1),$D$20)+1))&IF(AX14=1,""," ("&IF(C14<Invoer!$H$15,HOUR(C14),HOUR(B14))&")")))) | AK14: =IF($A14="","",IF(L14=0,"X",IF(Invoer!$J$16="X","X",IF(Invoer!$J$16<>"",Invoer!$J$16,INDEX(Invoer!$K$9:$K$20,MOD(IF(AY14=1,MOD(V14-1+2*(L$3-1),AY$19),V14-1),$D$20)+1))&IF(AY14=1,""," ("&IF(C14<Invoer!$H$16,HOUR(C14),HOUR(B14))&")")))) | AL14: =IF($A14="","",IF(M14=0,"X",IF(Invoer!$J$17="X","X",IF(Invoer!$J$17<>"",Invoer!$J$17,INDEX(Invoer!$K$9:$K$20,MOD(IF(AZ14=1,MOD(W14-1+2*(M$3-1),AZ$19),W14-1),$D$20)+1))&IF(AZ14=1,""," ("&IF(C14<Invoer!$H$17,HOUR(C14),HOUR(B14))&")")))) | AN14: =IF(A14="","",TEXT(Invoer!B18,"hh:mm")&" - "&IF(Invoer!C18="sluit","sluit",TEXT(Invoer!C18,"hh:mm"))) | AO14: =IF(A14="","",IF(D14>5.5,"30 min","")) | AP14: =IF(Invoer!D18="","",Invoer!D18) | AR14: =IF(A14="",0,IF(AND(B14<=Invoer!$G$9,C14>=Invoer!$H$9),1,0)) -> 0 | AS14: =IF(A14="",0,IF(AND(B14<=Invoer!$G$10,C14>=Invoer!$H$10),1,0)) -> 0 | AT14: =IF(A14="",0,IF(AND(B14<=Invoer!$G$11,C14>=Invoer!$H$11),1,0)) -> 0 | AU14: =IF(A14="",0,IF(AND(B14<=Invoer!$G$12,C14>=Invoer!$H$12),1,0)) -> 0 | AV14: =IF(A14="",0,IF(AND(B14<=Invoer!$G$13,C14>=Invoer!$H$13),1,0)) -> 0 | AW14: =IF(A14="",0,IF(AND(B14<=Invoer!$G$14,C14>=Invoer!$H$14),1,0)) -> 0 | AX14: =IF(A14="",0,IF(AND(B14<=Invoer!$G$15,C14>=Invoer!$H$15),1,0)) -> 0 | AY14: =IF(A14="",0,IF(AND(B14<=Invoer!$G$16,C14>=Invoer!$H$16),1,0)) -> 0 | AZ14: =IF(A14="",0,IF(AND(B14<=Invoer!$G$17,C14>=Invoer!$H$17),1,0)) -> 0
A15: =IF(Invoer!A19="","",Invoer!A19) | B15: =IF(A15="","",Invoer!B19) | C15: =IF(A15="","",IF(Invoer!C19="sluit",Invoer!$B$6,Invoer!C19)) | D15: =IF(A15="","",ROUND((C15-B15)*24,2)) | E15: =IF(A15="",0,IF(AND(B15<Invoer!$H$9,C15>Invoer!$G$9),1,0)) -> 0 | F15: =IF(A15="",0,IF(AND(B15<Invoer!$H$10,C15>Invoer!$G$10),1,0)) -> 0 | G15: =IF(A15="",0,IF(AND(B15<Invoer!$H$11,C15>Invoer!$G$11),1,0)) -> 0 | H15: =IF(A15="",0,IF(AND(B15<Invoer!$H$12,C15>Invoer!$G$12),1,0)) -> 0 | I15: =IF(A15="",0,IF(AND(B15<Invoer!$H$13,C15>Invoer!$G$13),1,0)) -> 0 | J15: =IF(A15="",0,IF(AND(B15<Invoer!$H$14,C15>Invoer!$G$14),1,0)) -> 0 | K15: =IF(A15="",0,IF(AND(B15<Invoer!$H$15,C15>Invoer!$G$15),1,0)) -> 0 | L15: =IF(A15="",0,IF(AND(B15<Invoer!$H$16,C15>Invoer!$G$16),1,0)) -> 0 | M15: =IF(A15="",0,IF(AND(B15<Invoer!$H$17,C15>Invoer!$G$17),1,0)) -> 0 | O15: =IF(E15=0,0,IF(AR15=1,SUM(AR$5:AR15),AR$19+SUM(E$5:E15)-SUM(AR$5:AR15))) -> 0 | P15: =IF(F15=0,0,IF(AS15=1,SUM(AS$5:AS15),AS$19+SUM(F$5:F15)-SUM(AS$5:AS15))) -> 0 | Q15: =IF(G15=0,0,IF(AT15=1,SUM(AT$5:AT15),AT$19+SUM(G$5:G15)-SUM(AT$5:AT15))) -> 0 | R15: =IF(H15=0,0,IF(AU15=1,SUM(AU$5:AU15),AU$19+SUM(H$5:H15)-SUM(AU$5:AU15))) -> 0 | S15: =IF(I15=0,0,IF(AV15=1,SUM(AV$5:AV15),AV$19+SUM(I$5:I15)-SUM(AV$5:AV15))) -> 0 | T15: =IF(J15=0,0,IF(AW15=1,SUM(AW$5:AW15),AW$19+SUM(J$5:J15)-SUM(AW$5:AW15))) -> 0 | U15: =IF(K15=0,0,IF(AX15=1,SUM(AX$5:AX15),AX$19+SUM(K$5:K15)-SUM(AX$5:AX15))) -> 0 | V15: =IF(L15=0,0,IF(AY15=1,SUM(AY$5:AY15),AY$19+SUM(L$5:L15)-SUM(AY$5:AY15))) -> 0 | W15: =IF(M15=0,0,IF(AZ15=1,SUM(AZ$5:AZ15),AZ$19+SUM(M$5:M15)-SUM(AZ$5:AZ15))) -> 0 | Y15: =IF(A15="","",IF(B15<10/24,"Ochtend",IF(B15<14/24,"Tussen","Avond"))) | Z15: =IF(Y15="Ochtend",COUNTIF(Y$5:Y15,"Ochtend"),"") | AA15: =IF(Y15="Tussen",COUNTIF(Y$5:Y15,"Tussen"),"") | AB15: =IF(Y15="Avond",COUNTIF(Y$5:Y15,"Avond"),"") | AD15: =IF($A15="","",IF(E15=0,"X",IF(Invoer!$J$9="X","X",IF(Invoer!$J$9<>"",Invoer!$J$9,INDEX(Invoer!$K$9:$K$20,MOD(IF(AR15=1,MOD(O15-1+2*(E$3-1),AR$19),O15-1),$D$20)+1))&IF(AR15=1,""," ("&IF(C15<Invoer!$H$9,HOUR(C15),HOUR(B15))&")")))) | AE15: =IF($A15="","",IF(F15=0,"X",IF(Invoer!$J$10="X","X",IF(Invoer!$J$10<>"",Invoer!$J$10,INDEX(Invoer!$K$9:$K$20,MOD(IF(AS15=1,MOD(P15-1+2*(F$3-1),AS$19),P15-1),$D$20)+1))&IF(AS15=1,""," ("&IF(C15<Invoer!$H$10,HOUR(C15),HOUR(B15))&")")))) | AF15: =IF($A15="","",IF(G15=0,"X",IF(Invoer!$J$11="X","X",IF(Invoer!$J$11<>"",Invoer!$J$11,INDEX(Invoer!$K$9:$K$20,MOD(IF(AT15=1,MOD(Q15-1+2*(G$3-1),AT$19),Q15-1),$D$20)+1))&IF(AT15=1,""," ("&IF(C15<Invoer!$H$11,HOUR(C15),HOUR(B15))&")")))) | AG15: =IF($A15="","",IF(H15=0,"X",IF(Invoer!$J$12="X","X",IF(Invoer!$J$12<>"",Invoer!$J$12,INDEX(Invoer!$K$9:$K$20,MOD(IF(AU15=1,MOD(R15-1+2*(H$3-1),AU$19),R15-1),$D$20)+1))&IF(AU15=1,""," ("&IF(C15<Invoer!$H$12,HOUR(C15),HOUR(B15))&")")))) | AH15: =IF($A15="","",IF(I15=0,"X",IF(Invoer!$J$13="X","X",IF(Invoer!$J$13<>"",Invoer!$J$13,INDEX(Invoer!$K$9:$K$20,MOD(IF(AV15=1,MOD(S15-1+2*(I$3-1),AV$19),S15-1),$D$20)+1))&IF(AV15=1,""," ("&IF(C15<Invoer!$H$13,HOUR(C15),HOUR(B15))&")")))) | AI15: =IF($A15="","",IF(J15=0,"X",IF(Invoer!$J$14="X","X",IF(Invoer!$J$14<>"",Invoer!$J$14,INDEX(Invoer!$K$9:$K$20,MOD(IF(AW15=1,MOD(T15-1+2*(J$3-1),AW$19),T15-1),$D$20)+1))&IF(AW15=1,""," ("&IF(C15<Invoer!$H$14,HOUR(C15),HOUR(B15))&")")))) | AJ15: =IF($A15="","",IF(K15=0,"X",IF(Invoer!$J$15="X","X",IF(Invoer!$J$15<>"",Invoer!$J$15,INDEX(Invoer!$K$9:$K$20,MOD(IF(AX15=1,MOD(U15-1+2*(K$3-1),AX$19),U15-1),$D$20)+1))&IF(AX15=1,""," ("&IF(C15<Invoer!$H$15,HOUR(C15),HOUR(B15))&")")))) | AK15: =IF($A15="","",IF(L15=0,"X",IF(Invoer!$J$16="X","X",IF(Invoer!$J$16<>"",Invoer!$J$16,INDEX(Invoer!$K$9:$K$20,MOD(IF(AY15=1,MOD(V15-1+2*(L$3-1),AY$19),V15-1),$D$20)+1))&IF(AY15=1,""," ("&IF(C15<Invoer!$H$16,HOUR(C15),HOUR(B15))&")")))) | AL15: =IF($A15="","",IF(M15=0,"X",IF(Invoer!$J$17="X","X",IF(Invoer!$J$17<>"",Invoer!$J$17,INDEX(Invoer!$K$9:$K$20,MOD(IF(AZ15=1,MOD(W15-1+2*(M$3-1),AZ$19),W15-1),$D$20)+1))&IF(AZ15=1,""," ("&IF(C15<Invoer!$H$17,HOUR(C15),HOUR(B15))&")")))) | AN15: =IF(A15="","",TEXT(Invoer!B19,"hh:mm")&" - "&IF(Invoer!C19="sluit","sluit",TEXT(Invoer!C19,"hh:mm"))) | AO15: =IF(A15="","",IF(D15>5.5,"30 min","")) | AP15: =IF(Invoer!D19="","",Invoer!D19) | AR15: =IF(A15="",0,IF(AND(B15<=Invoer!$G$9,C15>=Invoer!$H$9),1,0)) -> 0 | AS15: =IF(A15="",0,IF(AND(B15<=Invoer!$G$10,C15>=Invoer!$H$10),1,0)) -> 0 | AT15: =IF(A15="",0,IF(AND(B15<=Invoer!$G$11,C15>=Invoer!$H$11),1,0)) -> 0 | AU15: =IF(A15="",0,IF(AND(B15<=Invoer!$G$12,C15>=Invoer!$H$12),1,0)) -> 0 | AV15: =IF(A15="",0,IF(AND(B15<=Invoer!$G$13,C15>=Invoer!$H$13),1,0)) -> 0 | AW15: =IF(A15="",0,IF(AND(B15<=Invoer!$G$14,C15>=Invoer!$H$14),1,0)) -> 0 | AX15: =IF(A15="",0,IF(AND(B15<=Invoer!$G$15,C15>=Invoer!$H$15),1,0)) -> 0 | AY15: =IF(A15="",0,IF(AND(B15<=Invoer!$G$16,C15>=Invoer!$H$16),1,0)) -> 0 | AZ15: =IF(A15="",0,IF(AND(B15<=Invoer!$G$17,C15>=Invoer!$H$17),1,0)) -> 0
A16: =IF(Invoer!A20="","",Invoer!A20) | B16: =IF(A16="","",Invoer!B20) | C16: =IF(A16="","",IF(Invoer!C20="sluit",Invoer!$B$6,Invoer!C20)) | D16: =IF(A16="","",ROUND((C16-B16)*24,2)) | E16: =IF(A16="",0,IF(AND(B16<Invoer!$H$9,C16>Invoer!$G$9),1,0)) -> 0 | F16: =IF(A16="",0,IF(AND(B16<Invoer!$H$10,C16>Invoer!$G$10),1,0)) -> 0 | G16: =IF(A16="",0,IF(AND(B16<Invoer!$H$11,C16>Invoer!$G$11),1,0)) -> 0 | H16: =IF(A16="",0,IF(AND(B16<Invoer!$H$12,C16>Invoer!$G$12),1,0)) -> 0 | I16: =IF(A16="",0,IF(AND(B16<Invoer!$H$13,C16>Invoer!$G$13),1,0)) -> 0 | J16: =IF(A16="",0,IF(AND(B16<Invoer!$H$14,C16>Invoer!$G$14),1,0)) -> 0 | K16: =IF(A16="",0,IF(AND(B16<Invoer!$H$15,C16>Invoer!$G$15),1,0)) -> 0 | L16: =IF(A16="",0,IF(AND(B16<Invoer!$H$16,C16>Invoer!$G$16),1,0)) -> 0 | M16: =IF(A16="",0,IF(AND(B16<Invoer!$H$17,C16>Invoer!$G$17),1,0)) -> 0 | O16: =IF(E16=0,0,IF(AR16=1,SUM(AR$5:AR16),AR$19+SUM(E$5:E16)-SUM(AR$5:AR16))) -> 0 | P16: =IF(F16=0,0,IF(AS16=1,SUM(AS$5:AS16),AS$19+SUM(F$5:F16)-SUM(AS$5:AS16))) -> 0 | Q16: =IF(G16=0,0,IF(AT16=1,SUM(AT$5:AT16),AT$19+SUM(G$5:G16)-SUM(AT$5:AT16))) -> 0 | R16: =IF(H16=0,0,IF(AU16=1,SUM(AU$5:AU16),AU$19+SUM(H$5:H16)-SUM(AU$5:AU16))) -> 0 | S16: =IF(I16=0,0,IF(AV16=1,SUM(AV$5:AV16),AV$19+SUM(I$5:I16)-SUM(AV$5:AV16))) -> 0 | T16: =IF(J16=0,0,IF(AW16=1,SUM(AW$5:AW16),AW$19+SUM(J$5:J16)-SUM(AW$5:AW16))) -> 0 | U16: =IF(K16=0,0,IF(AX16=1,SUM(AX$5:AX16),AX$19+SUM(K$5:K16)-SUM(AX$5:AX16))) -> 0 | V16: =IF(L16=0,0,IF(AY16=1,SUM(AY$5:AY16),AY$19+SUM(L$5:L16)-SUM(AY$5:AY16))) -> 0 | W16: =IF(M16=0,0,IF(AZ16=1,SUM(AZ$5:AZ16),AZ$19+SUM(M$5:M16)-SUM(AZ$5:AZ16))) -> 0 | Y16: =IF(A16="","",IF(B16<10/24,"Ochtend",IF(B16<14/24,"Tussen","Avond"))) | Z16: =IF(Y16="Ochtend",COUNTIF(Y$5:Y16,"Ochtend"),"") | AA16: =IF(Y16="Tussen",COUNTIF(Y$5:Y16,"Tussen"),"") | AB16: =IF(Y16="Avond",COUNTIF(Y$5:Y16,"Avond"),"") | AD16: =IF($A16="","",IF(E16=0,"X",IF(Invoer!$J$9="X","X",IF(Invoer!$J$9<>"",Invoer!$J$9,INDEX(Invoer!$K$9:$K$20,MOD(IF(AR16=1,MOD(O16-1+2*(E$3-1),AR$19),O16-1),$D$20)+1))&IF(AR16=1,""," ("&IF(C16<Invoer!$H$9,HOUR(C16),HOUR(B16))&")")))) | AE16: =IF($A16="","",IF(F16=0,"X",IF(Invoer!$J$10="X","X",IF(Invoer!$J$10<>"",Invoer!$J$10,INDEX(Invoer!$K$9:$K$20,MOD(IF(AS16=1,MOD(P16-1+2*(F$3-1),AS$19),P16-1),$D$20)+1))&IF(AS16=1,""," ("&IF(C16<Invoer!$H$10,HOUR(C16),HOUR(B16))&")")))) | AF16: =IF($A16="","",IF(G16=0,"X",IF(Invoer!$J$11="X","X",IF(Invoer!$J$11<>"",Invoer!$J$11,INDEX(Invoer!$K$9:$K$20,MOD(IF(AT16=1,MOD(Q16-1+2*(G$3-1),AT$19),Q16-1),$D$20)+1))&IF(AT16=1,""," ("&IF(C16<Invoer!$H$11,HOUR(C16),HOUR(B16))&")")))) | AG16: =IF($A16="","",IF(H16=0,"X",IF(Invoer!$J$12="X","X",IF(Invoer!$J$12<>"",Invoer!$J$12,INDEX(Invoer!$K$9:$K$20,MOD(IF(AU16=1,MOD(R16-1+2*(H$3-1),AU$19),R16-1),$D$20)+1))&IF(AU16=1,""," ("&IF(C16<Invoer!$H$12,HOUR(C16),HOUR(B16))&")")))) | AH16: =IF($A16="","",IF(I16=0,"X",IF(Invoer!$J$13="X","X",IF(Invoer!$J$13<>"",Invoer!$J$13,INDEX(Invoer!$K$9:$K$20,MOD(IF(AV16=1,MOD(S16-1+2*(I$3-1),AV$19),S16-1),$D$20)+1))&IF(AV16=1,""," ("&IF(C16<Invoer!$H$13,HOUR(C16),HOUR(B16))&")")))) | AI16: =IF($A16="","",IF(J16=0,"X",IF(Invoer!$J$14="X","X",IF(Invoer!$J$14<>"",Invoer!$J$14,INDEX(Invoer!$K$9:$K$20,MOD(IF(AW16=1,MOD(T16-1+2*(J$3-1),AW$19),T16-1),$D$20)+1))&IF(AW16=1,""," ("&IF(C16<Invoer!$H$14,HOUR(C16),HOUR(B16))&")")))) | AJ16: =IF($A16="","",IF(K16=0,"X",IF(Invoer!$J$15="X","X",IF(Invoer!$J$15<>"",Invoer!$J$15,INDEX(Invoer!$K$9:$K$20,MOD(IF(AX16=1,MOD(U16-1+2*(K$3-1),AX$19),U16-1),$D$20)+1))&IF(AX16=1,""," ("&IF(C16<Invoer!$H$15,HOUR(C16),HOUR(B16))&")")))) | AK16: =IF($A16="","",IF(L16=0,"X",IF(Invoer!$J$16="X","X",IF(Invoer!$J$16<>"",Invoer!$J$16,INDEX(Invoer!$K$9:$K$20,MOD(IF(AY16=1,MOD(V16-1+2*(L$3-1),AY$19),V16-1),$D$20)+1))&IF(AY16=1,""," ("&IF(C16<Invoer!$H$16,HOUR(C16),HOUR(B16))&")")))) | AL16: =IF($A16="","",IF(M16=0,"X",IF(Invoer!$J$17="X","X",IF(Invoer!$J$17<>"",Invoer!$J$17,INDEX(Invoer!$K$9:$K$20,MOD(IF(AZ16=1,MOD(W16-1+2*(M$3-1),AZ$19),W16-1),$D$20)+1))&IF(AZ16=1,""," ("&IF(C16<Invoer!$H$17,HOUR(C16),HOUR(B16))&")")))) | AN16: =IF(A16="","",TEXT(Invoer!B20,"hh:mm")&" - "&IF(Invoer!C20="sluit","sluit",TEXT(Invoer!C20,"hh:mm"))) | AO16: =IF(A16="","",IF(D16>5.5,"30 min","")) | AP16: =IF(Invoer!D20="","",Invoer!D20) | AR16: =IF(A16="",0,IF(AND(B16<=Invoer!$G$9,C16>=Invoer!$H$9),1,0)) -> 0 | AS16: =IF(A16="",0,IF(AND(B16<=Invoer!$G$10,C16>=Invoer!$H$10),1,0)) -> 0 | AT16: =IF(A16="",0,IF(AND(B16<=Invoer!$G$11,C16>=Invoer!$H$11),1,0)) -> 0 | AU16: =IF(A16="",0,IF(AND(B16<=Invoer!$G$12,C16>=Invoer!$H$12),1,0)) -> 0 | AV16: =IF(A16="",0,IF(AND(B16<=Invoer!$G$13,C16>=Invoer!$H$13),1,0)) -> 0 | AW16: =IF(A16="",0,IF(AND(B16<=Invoer!$G$14,C16>=Invoer!$H$14),1,0)) -> 0 | AX16: =IF(A16="",0,IF(AND(B16<=Invoer!$G$15,C16>=Invoer!$H$15),1,0)) -> 0 | AY16: =IF(A16="",0,IF(AND(B16<=Invoer!$G$16,C16>=Invoer!$H$16),1,0)) -> 0 | AZ16: =IF(A16="",0,IF(AND(B16<=Invoer!$G$17,C16>=Invoer!$H$17),1,0)) -> 0
A18: Aanwezig per blok | E18: =SUM(E5:E16) -> 3 | F18: =SUM(F5:F16) -> 4 | G18: =SUM(G5:G16) -> 5 | H18: =SUM(H5:H16) -> 4 | I18: =SUM(I5:I16) -> 6 | J18: =SUM(J5:J16) -> 4 | K18: =SUM(K5:K16) -> 5 | L18: =SUM(L5:L16) -> 4 | M18: =SUM(M5:M16) -> 4
AQ19: Hele blok | AR19: =SUM(AR5:AR16) -> 0 | AS19: =SUM(AS5:AS16) -> 4 | AT19: =SUM(AT5:AT16) -> 5 | AU19: =SUM(AU5:AU16) -> 4 | AV19: =SUM(AV5:AV16) -> 5 | AW19: =SUM(AW5:AW16) -> 4 | AX19: =SUM(AX5:AX16) -> 4 | AY19: =SUM(AY5:AY16) -> 4 | AZ19: =SUM(AZ5:AZ16) -> 4
A20: Aantal posities in de volgorde | D20: =SUMPRODUCT((Invoer!K9:K20<>"")*1) -> 12

Sheet Uitleg
A1: Uitleg
A3: Doel | B3: Een dagplanning maken waarin per tijdblok staat wie op welke post staat, zoals op een shiftplanning-lijst.
A4: Stap 1 | B4: Vul op Invoer de datum, de supervisors en de medewerkers met hun werktijd in.
A5: Stap 2 | B5: Pas zo nodig de tijdblokken en het minimum per post aan.
A6: Stap 3 | B6: De Shiftplanning deelt iedereen automatisch in. Per tijdblok rouleert iedereen naar een andere post.
A7: Stap 4 | B7: Controle laat per tijdblok zien of elke post bezet is. Rood betekent een tekort.
A8: Verdeling | B8: Wie aanwezig is, wordt op volgorde over de lijst 'Volgorde posten' verdeeld. Zet de belangrijkste posten bovenaan.
A9: Pauze | B9: Wie langer dan 5,5 uur werkt, krijgt 30 minuten pauze.
A10: Kleuren | B10: Blauwe tekst = invoer. Groene tekst = gekoppeld aan een ander tabblad. Zwart = berekening.
A11: Gegevens | B11: Alle namen en tijden in dit voorbeeld zijn verzonnen.
